BEGIN:VCALENDAR
VERSION:2.0
PRODID:-//AusschreibungsRadar//Timeline//DE
CALSCALE:GREGORIAN
METHOD:PUBLISH
X-WR-CALNAME:Projekt Bahnhof - Los 14.1 Metallbauarbeiten Geländer
X-WR-TIMEZONE:Europe/Berlin
BEGIN:VEVENT
UID:c21dd44be6c0066c@ausschreibungsradar.com
DTSTAMP:20260424T151428Z
DTSTART;VALUE=DATE:20250113
DTEND;VALUE=DATE:20250113
SUMMARY:Angebotsfrist — Bahnhof - Los 14.1 Metallbauarbeiten Geländer
DESCRIPTION:Phase: Ausschreibung | Beschreibung: Angebote werden eingeholt | Link: https://ausschreibungsradar.com/ausschreibung/0059b5b1-80a8-41d2-a9b8-78b1d6de2ca7/
URL:https://ausschreibungsradar.com/ausschreibung/0059b5b1-80a8-41d2-a9b8-78b1d6de2ca7/
END:VEVENT
BEGIN:VEVENT
UID:6cea4e7f9797a57b@ausschreibungsradar.com
DTSTAMP:20260424T151428Z
DTSTART;VALUE=DATE:20250303
DTEND;VALUE=DATE:20250303
SUMMARY:Vergabeergebnis — Bahnhof - Los 14.1 Metallbauarbeiten Geländer
DESCRIPTION:Phase: Vergabeergebnis | Beschreibung: Auftrag wurde zugeschlagen | Link: https://ausschreibungsradar.com/ausschreibung/f08e20e2-857a-4a93-923f-7f3a08e24879/
URL:https://ausschreibungsradar.com/ausschreibung/f08e20e2-857a-4a93-923f-7f3a08e24879/
END:VEVENT
END:VCALENDAR
