BEGIN:VCALENDAR
VERSION:2.0
PRODID:-//AusschreibungsRadar//Timeline//DE
CALSCALE:GREGORIAN
METHOD:PUBLISH
X-WR-CALNAME:Projekt Badegärten Eibenstock/A-040-2 Wärmeversorgungsanlagen
X-WR-TIMEZONE:Europe/Berlin
BEGIN:VEVENT
UID:36bd55e6bb0cac45@ausschreibungsradar.com
DTSTAMP:20260425T002356Z
DTSTART;VALUE=DATE:20240115
DTEND;VALUE=DATE:20240115
SUMMARY:Angebotsfrist — Badegärten Eibenstock/A-040-2 Wärmeversorgungsanlagen
DESCRIPTION:Phase: Ausschreibung | Beschreibung: Angebote werden eingeholt | Link: https://ausschreibungsradar.com/ausschreibung/018c111e-2c21-49c2-9bdb-93a32e5d7918/ | Geschätzter Wert: 685000 €
URL:https://ausschreibungsradar.com/ausschreibung/018c111e-2c21-49c2-9bdb-93a32e5d7918/
END:VEVENT
BEGIN:VEVENT
UID:7b0b2a923dac173c@ausschreibungsradar.com
DTSTAMP:20260425T002356Z
DTSTART;VALUE=DATE:20231115
DTEND;VALUE=DATE:20231115
SUMMARY:Ausschreibung — Badegärten Eibenstock/A-040-2 Wärmeversorgungsanlagen
DESCRIPTION:Phase: Ausschreibung | Beschreibung: Offizielle Ausschreibung mit Bieterfrist. | Link: https://ausschreibungsradar.com/ausschreibung/018c5ec7-20fa-4092-8320-28433fababb2/
URL:https://ausschreibungsradar.com/ausschreibung/018c5ec7-20fa-4092-8320-28433fababb2/
END:VEVENT
BEGIN:VEVENT
UID:e59fe6bf0292f1ea@ausschreibungsradar.com
DTSTAMP:20260425T002356Z
DTSTART;VALUE=DATE:20231115
DTEND;VALUE=DATE:20231115
SUMMARY:Ausschreibung — Badegärten Eibenstock/A-040-2 Wärmeversorgungsanlagen
DESCRIPTION:Phase: Ausschreibung | Beschreibung: Offizielle Ausschreibung mit Bieterfrist. | Link: https://ausschreibungsradar.com/ausschreibung/018bc826-f0a5-4a48-b585-c1febea1b25f/
URL:https://ausschreibungsradar.com/ausschreibung/018bc826-f0a5-4a48-b585-c1febea1b25f/
END:VEVENT
BEGIN:VEVENT
UID:0ee6d8b976cc1385@ausschreibungsradar.com
DTSTAMP:20260425T002356Z
DTSTART;VALUE=DATE:20231128
DTEND;VALUE=DATE:20231128
SUMMARY:Ausschreibung — Badegärten Eibenstock/A-040-2 Wärmeversorgungsanlagen
DESCRIPTION:Phase: Ausschreibung | Beschreibung: Offizielle Ausschreibung mit Bieterfrist. | Link: https://ausschreibungsradar.com/ausschreibung/ted-722257-2023/
URL:https://ausschreibungsradar.com/ausschreibung/ted-722257-2023/
END:VEVENT
BEGIN:VEVENT
UID:f0949d7a72995d36@ausschreibungsradar.com
DTSTAMP:20260425T002356Z
DTSTART;VALUE=DATE:20240219
DTEND;VALUE=DATE:20240219
SUMMARY:Vergabeergebnis — Badegärten Eibenstock/A-040-2 Wärmeversorgungsanlagen
DESCRIPTION:Phase: Vergabeergebnis | Beschreibung: Auftrag wurde zugeschlagen | Link: https://ausschreibungsradar.com/ausschreibung/018dc166-77c9-43d2-aa26-864327ceba37/
URL:https://ausschreibungsradar.com/ausschreibung/018dc166-77c9-43d2-aa26-864327ceba37/
END:VEVENT
END:VCALENDAR
