BEGIN:VCALENDAR
VERSION:2.0
PRODID:-//AusschreibungsRadar//Timeline//DE
CALSCALE:GREGORIAN
METHOD:PUBLISH
X-WR-CALNAME:Projekt Los 4 (3) - Erstellung einer Soziooekonomischen Analyse (SOe
X-WR-TIMEZONE:Europe/Berlin
BEGIN:VEVENT
UID:b5a9380ec9e9ee86@ausschreibungsradar.com
DTSTAMP:20260424T024451Z
DTSTART;VALUE=DATE:20240126
DTEND;VALUE=DATE:20240126
SUMMARY:Angebotsfrist — Los 4 (3) - Erstellung einer Soziooekonomischen Analyse (SOe
DESCRIPTION:Phase: Ausschreibung | Beschreibung: Angebote werden eingeholt | Link: https://ausschreibungsradar.com/ausschreibung/018d1cf3-49fe-47df-b7e0-0085369d0821/
URL:https://ausschreibungsradar.com/ausschreibung/018d1cf3-49fe-47df-b7e0-0085369d0821/
END:VEVENT
BEGIN:VEVENT
UID:a5fe0fea6fc31175@ausschreibungsradar.com
DTSTAMP:20260424T024451Z
DTSTART;VALUE=DATE:20231128
DTEND;VALUE=DATE:20231128
SUMMARY:Ausschreibung — Los 4 (3) - Erstellung einer Soziooekonomischen Analyse (SOe
DESCRIPTION:Phase: Ausschreibung | Beschreibung: Offizielle Ausschreibung mit Bieterfrist. | Link: https://ausschreibungsradar.com/ausschreibung/018c1649-8b3d-41d8-ad30-2da9df972e88/
URL:https://ausschreibungsradar.com/ausschreibung/018c1649-8b3d-41d8-ad30-2da9df972e88/
END:VEVENT
BEGIN:VEVENT
UID:c9b3d16eda6c3f80@ausschreibungsradar.com
DTSTAMP:20260424T024451Z
DTSTART;VALUE=DATE:20231128
DTEND;VALUE=DATE:20231128
SUMMARY:Ausschreibung — Los 4 (3) - Erstellung einer Soziooekonomischen Analyse (SOe
DESCRIPTION:Phase: Ausschreibung | Beschreibung: Offizielle Ausschreibung mit Bieterfrist. | Link: https://ausschreibungsradar.com/ausschreibung/018c8c68-29cf-473c-927c-6c61bce95b15/
URL:https://ausschreibungsradar.com/ausschreibung/018c8c68-29cf-473c-927c-6c61bce95b15/
END:VEVENT
BEGIN:VEVENT
UID:2b3655f3cc426ad1@ausschreibungsradar.com
DTSTAMP:20260424T024451Z
DTSTART;VALUE=DATE:20240306
DTEND;VALUE=DATE:20240306
SUMMARY:Vergabeergebnis — Los 4 (3) - Erstellung einer Soziooekonomischen Analyse (SOe
DESCRIPTION:Phase: Vergabeergebnis | Beschreibung: Auftrag wurde zugeschlagen | Link: https://ausschreibungsradar.com/ausschreibung/018e128f-b5e1-4031-8bac-ff5940087910/
URL:https://ausschreibungsradar.com/ausschreibung/018e128f-b5e1-4031-8bac-ff5940087910/
END:VEVENT
END:VCALENDAR
