BEGIN:VCALENDAR
VERSION:2.0
PRODID:-//AusschreibungsRadar//Timeline//DE
CALSCALE:GREGORIAN
METHOD:PUBLISH
X-WR-CALNAME:Projekt Lieferung, Einführung & Wartung eines Dokumentationssystems 
X-WR-TIMEZONE:Europe/Berlin
BEGIN:VEVENT
UID:ce0c12ef968f0c09@ausschreibungsradar.com
DTSTAMP:20260424T163133Z
DTSTART;VALUE=DATE:20240723
DTEND;VALUE=DATE:20240723
SUMMARY:Ausschreibung — Lieferung\, Einführung & Wartung eines Dokumentationssystems 
DESCRIPTION:Phase: Ausschreibung | Beschreibung: Angebote werden eingeholt | Link: https://ausschreibungsradar.com/ausschreibung/01903480-2fd2-475e-a9ab-dd80d9d7f4b8/
URL:https://ausschreibungsradar.com/ausschreibung/01903480-2fd2-475e-a9ab-dd80d9d7f4b8/
END:VEVENT
BEGIN:VEVENT
UID:9b729b262035a223@ausschreibungsradar.com
DTSTAMP:20260424T163133Z
DTSTART;VALUE=DATE:20250602
DTEND;VALUE=DATE:20250602
SUMMARY:Vergabeergebnis — Lieferung\, Einführung & Wartung eines Dokumentationssystems 
DESCRIPTION:Phase: Vergabeergebnis | Beschreibung: Auftrag wurde zugeschlagen | Link: https://ausschreibungsradar.com/ausschreibung/019730bf-3393-4cea-bb58-3f50d94c42d5/
URL:https://ausschreibungsradar.com/ausschreibung/019730bf-3393-4cea-bb58-3f50d94c42d5/
END:VEVENT
END:VCALENDAR
