BEGIN:VCALENDAR
VERSION:2.0
PRODID:-//AusschreibungsRadar//Timeline//DE
CALSCALE:GREGORIAN
METHOD:PUBLISH
X-WR-CALNAME:Projekt LRA Altenburger Land | Landestheater Altenburg | Sanierung K
X-WR-TIMEZONE:Europe/Berlin
BEGIN:VEVENT
UID:de5afe491fa188fb@ausschreibungsradar.com
DTSTAMP:20260425T214705Z
DTSTART;VALUE=DATE:20240521
DTEND;VALUE=DATE:20240521
SUMMARY:Ausschreibung — LRA Altenburger Land | Landestheater Altenburg | Sanierung K
DESCRIPTION:Phase: Ausschreibung | Beschreibung: Angebote werden eingeholt | Link: https://ausschreibungsradar.com/ausschreibung/018f809f-b11f-4a16-ba54-f7c5c83197fe/
URL:https://ausschreibungsradar.com/ausschreibung/018f809f-b11f-4a16-ba54-f7c5c83197fe/
END:VEVENT
BEGIN:VEVENT
UID:caaa5cb643d67805@ausschreibungsradar.com
DTSTAMP:20260425T214705Z
DTSTART;VALUE=DATE:20240704
DTEND;VALUE=DATE:20240704
SUMMARY:Vergabeergebnis — LRA Altenburger Land | Landestheater Altenburg | Sanierung K
DESCRIPTION:Phase: Vergabeergebnis | Beschreibung: Keine Angebote eingegangen | Link: https://ausschreibungsradar.com/ausschreibung/01907ca7-16ca-46c4-bee2-4b17700f09b7/
URL:https://ausschreibungsradar.com/ausschreibung/01907ca7-16ca-46c4-bee2-4b17700f09b7/
END:VEVENT
BEGIN:VEVENT
UID:efb7ec9a0268dc73@ausschreibungsradar.com
DTSTAMP:20260425T214705Z
DTSTART;VALUE=DATE:20240704
DTEND;VALUE=DATE:20240704
SUMMARY:Zuschlag — LRA Altenburger Land | Landestheater Altenburg | Sanierung K
DESCRIPTION:Phase: Zuschlag | Beschreibung: Vergabeergebnis — Auftrag wurde erteilt oder Verfahren beendet. | Link: https://ausschreibungsradar.com/ausschreibung/01907cae-106d-48eb-b288-a09b8162b90a/
URL:https://ausschreibungsradar.com/ausschreibung/01907cae-106d-48eb-b288-a09b8162b90a/
END:VEVENT
END:VCALENDAR
