BEGIN:VCALENDAR
VERSION:2.0
PRODID:-//AusschreibungsRadar//Timeline//DE
CALSCALE:GREGORIAN
METHOD:PUBLISH
X-WR-CALNAME:Projekt Verwertung von Papier, Pappe, Kartonagen (PPK) aus dem Gebie
X-WR-TIMEZONE:Europe/Berlin
BEGIN:VEVENT
UID:3b09047a269dcad3@ausschreibungsradar.com
DTSTAMP:20260424T174359Z
DTSTART;VALUE=DATE:20240918
DTEND;VALUE=DATE:20240918
SUMMARY:Angebotsfrist — Verwertung von Papier\, Pappe\, Kartonagen (PPK) aus dem Gebie
DESCRIPTION:Phase: Ausschreibung | Beschreibung: Angebote werden eingeholt | Link: https://ausschreibungsradar.com/ausschreibung/01915034-4e26-4fdf-b9d5-2735184bb76c/
URL:https://ausschreibungsradar.com/ausschreibung/01915034-4e26-4fdf-b9d5-2735184bb76c/
END:VEVENT
BEGIN:VEVENT
UID:7c699618608c2849@ausschreibungsradar.com
DTSTAMP:20260424T174359Z
DTSTART;VALUE=DATE:20250403
DTEND;VALUE=DATE:20250403
SUMMARY:Vergabeergebnis — Verwertung von Papier\, Pappe\, Kartonagen (PPK) aus dem Gebie
DESCRIPTION:Phase: Vergabeergebnis | Beschreibung: Auftrag wurde zugeschlagen | Link: https://ausschreibungsradar.com/ausschreibung/0192e70c-8964-4ee2-b617-4a66079b9d33/
URL:https://ausschreibungsradar.com/ausschreibung/0192e70c-8964-4ee2-b617-4a66079b9d33/
END:VEVENT
END:VCALENDAR
