BEGIN:VCALENDAR
VERSION:2.0
PRODID:-//AusschreibungsRadar//Timeline//DE
CALSCALE:GREGORIAN
METHOD:PUBLISH
X-WR-CALNAME:Projekt Bodenbelagsarbeiten Haus H + L - Marien Hospital Papenburg A
X-WR-TIMEZONE:Europe/Berlin
BEGIN:VEVENT
UID:ef320a475e87468a@ausschreibungsradar.com
DTSTAMP:20260425T021822Z
DTSTART;VALUE=DATE:20241204
DTEND;VALUE=DATE:20241204
SUMMARY:Angebotsfrist — Bodenbelagsarbeiten Haus H + L - Marien Hospital Papenburg A
DESCRIPTION:Phase: Ausschreibung | Beschreibung: Angebote werden eingeholt | Link: https://ausschreibungsradar.com/ausschreibung/0192df2e-b4c7-492d-a5e4-33c05f0245f2/
URL:https://ausschreibungsradar.com/ausschreibung/0192df2e-b4c7-492d-a5e4-33c05f0245f2/
END:VEVENT
BEGIN:VEVENT
UID:385287d02ebd4237@ausschreibungsradar.com
DTSTAMP:20260425T021822Z
DTSTART;VALUE=DATE:20241030
DTEND;VALUE=DATE:20241030
SUMMARY:Ausschreibung — Bodenbelagsarbeiten Haus H + L - Marien Hospital Papenburg A
DESCRIPTION:Phase: Ausschreibung | Beschreibung: Offizielle Ausschreibung mit Bieterfrist. | Link: https://ausschreibungsradar.com/ausschreibung/0192df1e-df9f-4a76-82ab-1709a667a276/
URL:https://ausschreibungsradar.com/ausschreibung/0192df1e-df9f-4a76-82ab-1709a667a276/
END:VEVENT
END:VCALENDAR
