BEGIN:VCALENDAR
VERSION:2.0
PRODID:-//AusschreibungsRadar//Timeline//DE
CALSCALE:GREGORIAN
METHOD:PUBLISH
X-WR-CALNAME:Projekt R3 Radschnellverbindung Schkeuditz - Leipzig -  Los 2 – Verg
X-WR-TIMEZONE:Europe/Berlin
BEGIN:VEVENT
UID:3278cbcd93a02104@ausschreibungsradar.com
DTSTAMP:20260426T004856Z
DTSTART;VALUE=DATE:20250506
DTEND;VALUE=DATE:20250506
SUMMARY:Ausschreibung — R3 Radschnellverbindung Schkeuditz - Leipzig -  Los 2 – Verg
DESCRIPTION:Phase: Ausschreibung | Beschreibung: Angebote werden eingeholt | Link: https://ausschreibungsradar.com/ausschreibung/0196a4e0-ce69-4f8e-b87d-383c16915e57/
URL:https://ausschreibungsradar.com/ausschreibung/0196a4e0-ce69-4f8e-b87d-383c16915e57/
END:VEVENT
BEGIN:VEVENT
UID:395b152248f61630@ausschreibungsradar.com
DTSTAMP:20260426T004856Z
DTSTART;VALUE=DATE:20250506
DTEND;VALUE=DATE:20250506
SUMMARY:Ausschreibung — R3 Radschnellverbindung Schkeuditz - Leipzig -  Los 2 – Verg
DESCRIPTION:Phase: Ausschreibung | Beschreibung: Offizielle Ausschreibung mit Bieterfrist. | Link: https://ausschreibungsradar.com/ausschreibung/01968660-c1a8-4362-be5a-502c014434f0/
URL:https://ausschreibungsradar.com/ausschreibung/01968660-c1a8-4362-be5a-502c014434f0/
END:VEVENT
BEGIN:VEVENT
UID:726df186c1f51296@ausschreibungsradar.com
DTSTAMP:20260426T004856Z
DTSTART;VALUE=DATE:20260318
DTEND;VALUE=DATE:20260318
SUMMARY:Vergabeergebnis — R3 Radschnellverbindung Schkeuditz - Leipzig -  Los 2 – Verg
DESCRIPTION:Phase: Vergabeergebnis | Beschreibung: Auftrag wurde zugeschlagen | Link: https://ausschreibungsradar.com/ausschreibung/019caec6-3ce9-4952-8089-517e352c4f27/
URL:https://ausschreibungsradar.com/ausschreibung/019caec6-3ce9-4952-8089-517e352c4f27/
END:VEVENT
END:VCALENDAR
