BEGIN:VCALENDAR
VERSION:2.0
PRODID:-//AusschreibungsRadar//Timeline//DE
CALSCALE:GREGORIAN
METHOD:PUBLISH
X-WR-CALNAME:Projekt ROS_Los 534 Parkplatz Oberschule
X-WR-TIMEZONE:Europe/Berlin
BEGIN:VEVENT
UID:f8ca8366a87ee252@ausschreibungsradar.com
DTSTAMP:20260425T234903Z
DTSTART;VALUE=DATE:20250611
DTEND;VALUE=DATE:20250611
SUMMARY:Angebotsfrist — ROS_Los 534 Parkplatz Oberschule
DESCRIPTION:Phase: Ausschreibung | Beschreibung: Angebote werden eingeholt | Link: https://ausschreibungsradar.com/ausschreibung/0196b432-9e9c-4e4e-8e93-7f8816a9412f/
URL:https://ausschreibungsradar.com/ausschreibung/0196b432-9e9c-4e4e-8e93-7f8816a9412f/
END:VEVENT
BEGIN:VEVENT
UID:b7ac4f6dab2d4bd0@ausschreibungsradar.com
DTSTAMP:20260425T234903Z
DTSTART;VALUE=DATE:20250903
DTEND;VALUE=DATE:20250903
SUMMARY:Vergabeergebnis — ROS_Los 534 Parkplatz Oberschule
DESCRIPTION:Phase: Vergabeergebnis | Beschreibung: Auftrag wurde zugeschlagen | Link: https://ausschreibungsradar.com/ausschreibung/01990f55-f851-4ab9-a339-af0097cda0ff/
URL:https://ausschreibungsradar.com/ausschreibung/01990f55-f851-4ab9-a339-af0097cda0ff/
END:VEVENT
END:VCALENDAR
