BEGIN:VCALENDAR
VERSION:2.0
PRODID:-//AusschreibungsRadar//Timeline//DE
CALSCALE:GREGORIAN
METHOD:PUBLISH
X-WR-CALNAME:Projekt Verwaltungsrechtliches Auswahlverfahren – Leistungen des bod
X-WR-TIMEZONE:Europe/Berlin
BEGIN:VEVENT
UID:c1084d3d2a1355b0@ausschreibungsradar.com
DTSTAMP:20260426T013332Z
DTSTART;VALUE=DATE:20250509
DTEND;VALUE=DATE:20250509
SUMMARY:Ausschreibung — Verwaltungsrechtliches Auswahlverfahren – Leistungen des bod
DESCRIPTION:Phase: Ausschreibung | Beschreibung: Angebote werden eingeholt | Link: https://ausschreibungsradar.com/ausschreibung/0197590e-89fb-4f6f-9e54-37feacf44fb6/
URL:https://ausschreibungsradar.com/ausschreibung/0197590e-89fb-4f6f-9e54-37feacf44fb6/
END:VEVENT
BEGIN:VEVENT
UID:4c707469520a242e@ausschreibungsradar.com
DTSTAMP:20260426T013332Z
DTSTART;VALUE=DATE:20250509
DTEND;VALUE=DATE:20250509
SUMMARY:Ausschreibung — Verwaltungsrechtliches Auswahlverfahren – Leistungen des bod
DESCRIPTION:Phase: Ausschreibung | Beschreibung: Offizielle Ausschreibung mit Bieterfrist. | Link: https://ausschreibungsradar.com/ausschreibung/019691ec-4be8-44b5-a9b9-ce1719ca55de/
URL:https://ausschreibungsradar.com/ausschreibung/019691ec-4be8-44b5-a9b9-ce1719ca55de/
END:VEVENT
END:VCALENDAR
