BEGIN:VCALENDAR
VERSION:2.0
PRODID:-//AusschreibungsRadar//Timeline//DE
CALSCALE:GREGORIAN
METHOD:PUBLISH
X-WR-CALNAME:Projekt Ausschreibung über drei Stück Tragkraftspritzenfahrzeug mit 
X-WR-TIMEZONE:Europe/Berlin
BEGIN:VEVENT
UID:3620f18889ef35a5@ausschreibungsradar.com
DTSTAMP:20260426T014030Z
DTSTART;VALUE=DATE:20251231
DTEND;VALUE=DATE:20251231
SUMMARY:Angebotsfrist — Ausschreibung über drei Stück Tragkraftspritzenfahrzeug mit 
DESCRIPTION:Phase: Ausschreibung | Beschreibung: Angebote werden eingeholt | Link: https://ausschreibungsradar.com/ausschreibung/01985fa7-7a83-41dd-9649-93ca897c61b2/ | Geschätzter Wert: 6100000 €
URL:https://ausschreibungsradar.com/ausschreibung/01985fa7-7a83-41dd-9649-93ca897c61b2/
END:VEVENT
END:VCALENDAR
