BEGIN:VCALENDAR
VERSION:2.0
PRODID:-//AusschreibungsRadar//Timeline//DE
CALSCALE:GREGORIAN
METHOD:PUBLISH
X-WR-CALNAME:Projekt Tischlerarbeiten Fenster Hauptgebäude  Rathaus
X-WR-TIMEZONE:Europe/Berlin
BEGIN:VEVENT
UID:72ab8f73174691bc@ausschreibungsradar.com
DTSTAMP:20260424T213954Z
DTSTART;VALUE=DATE:20251021
DTEND;VALUE=DATE:20251021
SUMMARY:Angebotsfrist — Tischlerarbeiten Fenster Hauptgebäude  Rathaus
DESCRIPTION:Phase: Ausschreibung | Beschreibung: Angebote werden eingeholt | Link: https://ausschreibungsradar.com/ausschreibung/01994d46-37ee-4ff6-a7fc-badf1be3f011/
URL:https://ausschreibungsradar.com/ausschreibung/01994d46-37ee-4ff6-a7fc-badf1be3f011/
END:VEVENT
BEGIN:VEVENT
UID:10c811fee6c6b2e9@ausschreibungsradar.com
DTSTAMP:20260424T213954Z
DTSTART;VALUE=DATE:20251219
DTEND;VALUE=DATE:20251219
SUMMARY:Vergabeergebnis — Tischlerarbeiten Fenster Hauptgebäude  Rathaus
DESCRIPTION:Phase: Vergabeergebnis | Beschreibung: Auftrag wurde zugeschlagen | Link: https://ausschreibungsradar.com/ausschreibung/019b3579-1b10-401c-bdcb-5e6b0b4ec314/ | Geschätzter Wert: 118637 €
URL:https://ausschreibungsradar.com/ausschreibung/019b3579-1b10-401c-bdcb-5e6b0b4ec314/
END:VEVENT
END:VCALENDAR
