BEGIN:VCALENDAR
VERSION:2.0
PRODID:-//AusschreibungsRadar//Timeline//DE
CALSCALE:GREGORIAN
METHOD:PUBLISH
X-WR-CALNAME:Projekt Strategisches Personalmanagement für die Sächsische Aufbauba
X-WR-TIMEZONE:Europe/Berlin
BEGIN:VEVENT
UID:e38d2c37c78cceea@ausschreibungsradar.com
DTSTAMP:20260425T102517Z
DTSTART;VALUE=DATE:20251218
DTEND;VALUE=DATE:20251218
SUMMARY:Angebotsfrist — Strategisches Personalmanagement für die Sächsische Aufbauba
DESCRIPTION:Phase: Ausschreibung | Beschreibung: Angebote werden eingeholt | Link: https://ausschreibungsradar.com/ausschreibung/019b0c68-8d50-4b77-bcaa-6ab07fe75b70/
URL:https://ausschreibungsradar.com/ausschreibung/019b0c68-8d50-4b77-bcaa-6ab07fe75b70/
END:VEVENT
BEGIN:VEVENT
UID:f61b8af5ddac18b4@ausschreibungsradar.com
DTSTAMP:20260425T102517Z
DTSTART;VALUE=DATE:20251114
DTEND;VALUE=DATE:20251114
SUMMARY:Ausschreibung — Strategisches Personalmanagement für die Sächsische Aufbauba
DESCRIPTION:Phase: Ausschreibung | Beschreibung: Offizielle Ausschreibung mit Bieterfrist. | Link: https://ausschreibungsradar.com/ausschreibung/019a7c5b-b564-45b5-890e-80d835424607/
URL:https://ausschreibungsradar.com/ausschreibung/019a7c5b-b564-45b5-890e-80d835424607/
END:VEVENT
BEGIN:VEVENT
UID:cd8369af197c2f69@ausschreibungsradar.com
DTSTAMP:20260425T102517Z
DTSTART;VALUE=DATE:20260216
DTEND;VALUE=DATE:20260216
SUMMARY:Vergabeergebnis — Strategisches Personalmanagement für die Sächsische Aufbauba
DESCRIPTION:Phase: Vergabeergebnis | Beschreibung: Auftrag wurde zugeschlagen | Link: https://ausschreibungsradar.com/ausschreibung/019c5702-2610-4a13-943a-92b765f75b15/
URL:https://ausschreibungsradar.com/ausschreibung/019c5702-2610-4a13-943a-92b765f75b15/
END:VEVENT
END:VCALENDAR
