BEGIN:VCALENDAR
VERSION:2.0
PRODID:-//AusschreibungsRadar//Timeline//DE
CALSCALE:GREGORIAN
METHOD:PUBLISH
X-WR-CALNAME:Projekt BWS Trockenbauarbeiten und Stahltüren für das Neubauvorhaben
X-WR-TIMEZONE:Europe/Berlin
BEGIN:VEVENT
UID:40610ac0bdeeffe8@ausschreibungsradar.com
DTSTAMP:20260424T095933Z
DTSTART;VALUE=DATE:20260227
DTEND;VALUE=DATE:20260227
SUMMARY:Angebotsfrist — BWS Trockenbauarbeiten und Stahltüren für das Neubauvorhaben
DESCRIPTION:Phase: Ausschreibung | Beschreibung: Angebote werden eingeholt | Link: https://ausschreibungsradar.com/ausschreibung/019bd71a-b194-4da3-86a4-ed6b6832d5ed/
URL:https://ausschreibungsradar.com/ausschreibung/019bd71a-b194-4da3-86a4-ed6b6832d5ed/
END:VEVENT
END:VCALENDAR
