BEGIN:VCALENDAR
VERSION:2.0
PRODID:-//AusschreibungsRadar//Timeline//DE
CALSCALE:GREGORIAN
METHOD:PUBLISH
X-WR-CALNAME:Projekt Malerarbeiten
X-WR-TIMEZONE:Europe/Berlin
BEGIN:VEVENT
UID:a2e8f269583c5873@ausschreibungsradar.com
DTSTAMP:20260425T181333Z
DTSTART;VALUE=DATE:20260422
DTEND;VALUE=DATE:20260422
SUMMARY:Angebotsfrist — Malerarbeiten
DESCRIPTION:Phase: Ausschreibung | Beschreibung: Angebote werden eingeholt | Link: https://ausschreibungsradar.com/ausschreibung/01bc6a19-d304-4c81-a24d-00e1b0beab0f/
URL:https://ausschreibungsradar.com/ausschreibung/01bc6a19-d304-4c81-a24d-00e1b0beab0f/
END:VEVENT
BEGIN:VEVENT
UID:4c58288d57618e9f@ausschreibungsradar.com
DTSTAMP:20260425T181333Z
DTSTART;VALUE=DATE:20260320
DTEND;VALUE=DATE:20260320
SUMMARY:Ausschreibung — Malerarbeiten
DESCRIPTION:Phase: Ausschreibung | Beschreibung: Offizielle Ausschreibung mit Bieterfrist. | Link: https://ausschreibungsradar.com/ausschreibung/c9ee9026-e252-47fc-8782-0a1e8dd65c11/
URL:https://ausschreibungsradar.com/ausschreibung/c9ee9026-e252-47fc-8782-0a1e8dd65c11/
END:VEVENT
END:VCALENDAR
