BEGIN:VCALENDAR
VERSION:2.0
PRODID:-//AusschreibungsRadar//Timeline//DE
CALSCALE:GREGORIAN
METHOD:PUBLISH
X-WR-CALNAME:Projekt MKK: Stadtschule Schlüchtern, Sonnenschutz
X-WR-TIMEZONE:Europe/Berlin
BEGIN:VEVENT
UID:09f471240129e41a@ausschreibungsradar.com
DTSTAMP:20260425T151536Z
DTSTART;VALUE=DATE:20240408
DTEND;VALUE=DATE:20240408
SUMMARY:Ausschreibung — MKK: Stadtschule Schlüchtern\, Sonnenschutz
DESCRIPTION:Phase: Ausschreibung | Beschreibung: Angebote werden eingeholt | Link: https://ausschreibungsradar.com/ausschreibung/06ac470d-66a8-4aa9-83a7-d7f4a0491a99/
URL:https://ausschreibungsradar.com/ausschreibung/06ac470d-66a8-4aa9-83a7-d7f4a0491a99/
END:VEVENT
BEGIN:VEVENT
UID:1c6bdfb1057872a7@ausschreibungsradar.com
DTSTAMP:20260425T151536Z
DTSTART;VALUE=DATE:20240709
DTEND;VALUE=DATE:20240709
SUMMARY:Ausschreibung — MKK: Stadtschule Schlüchtern\, Sonnenschutz
DESCRIPTION:Phase: Ausschreibung | Beschreibung: Offizielle Ausschreibung mit Bieterfrist. | Link: https://ausschreibungsradar.com/ausschreibung/6a1e4721-4163-4ae8-9d33-c3c2777e3069/
URL:https://ausschreibungsradar.com/ausschreibung/6a1e4721-4163-4ae8-9d33-c3c2777e3069/
END:VEVENT
BEGIN:VEVENT
UID:10d4392e516c2031@ausschreibungsradar.com
DTSTAMP:20260425T151536Z
DTSTART;VALUE=DATE:20240716
DTEND;VALUE=DATE:20240716
SUMMARY:Zuschlag — MKK: Stadtschule Schlüchtern\, Sonnenschutz
DESCRIPTION:Phase: Zuschlag | Beschreibung: Vergabeergebnis — Auftrag wurde erteilt oder Verfahren beendet. | Link: https://ausschreibungsradar.com/ausschreibung/3aadbce8-36fb-4577-b928-ecfe04182406/
URL:https://ausschreibungsradar.com/ausschreibung/3aadbce8-36fb-4577-b928-ecfe04182406/
END:VEVENT
BEGIN:VEVENT
UID:fd6949e524adbba3@ausschreibungsradar.com
DTSTAMP:20260425T151536Z
DTSTART;VALUE=DATE:20240718
DTEND;VALUE=DATE:20240718
SUMMARY:Vergabeergebnis — MKK: Stadtschule Schlüchtern\, Sonnenschutz
DESCRIPTION:Phase: Vergabeergebnis | Beschreibung: Auftrag wurde zugeschlagen | Link: https://ausschreibungsradar.com/ausschreibung/03d34053-336f-46ad-8a4e-4a99b83463a9/
URL:https://ausschreibungsradar.com/ausschreibung/03d34053-336f-46ad-8a4e-4a99b83463a9/
END:VEVENT
END:VCALENDAR
