BEGIN:VCALENDAR
VERSION:2.0
PRODID:-//AusschreibungsRadar//Timeline//DE
CALSCALE:GREGORIAN
METHOD:PUBLISH
X-WR-CALNAME:Projekt Neubau Martin-Niemöller-Gesamtschule-Gerüstarbeiten
X-WR-TIMEZONE:Europe/Berlin
BEGIN:VEVENT
UID:2cbfad153c0d1ac1@ausschreibungsradar.com
DTSTAMP:20260425T164537Z
DTSTART;VALUE=DATE:20251112
DTEND;VALUE=DATE:20251112
SUMMARY:Angebotsfrist — Neubau Martin-Niemöller-Gesamtschule-Gerüstarbeiten
DESCRIPTION:Phase: Ausschreibung | Beschreibung: Angebote werden eingeholt | Link: https://ausschreibungsradar.com/ausschreibung/41ba815c-c4b3-4c86-b938-300b9a63a942/
URL:https://ausschreibungsradar.com/ausschreibung/41ba815c-c4b3-4c86-b938-300b9a63a942/
END:VEVENT
BEGIN:VEVENT
UID:3c14495e0c2d73a1@ausschreibungsradar.com
DTSTAMP:20260425T164537Z
DTSTART;VALUE=DATE:20251212
DTEND;VALUE=DATE:20251212
SUMMARY:Ausschreibung — Neubau Martin-Niemöller-Gesamtschule-Gerüstarbeiten
DESCRIPTION:Phase: Ausschreibung | Beschreibung: Offizielle Ausschreibung mit Bieterfrist. | Link: https://ausschreibungsradar.com/ausschreibung/fd0eb53c-a173-4233-bd2c-41a8d2036b89/
URL:https://ausschreibungsradar.com/ausschreibung/fd0eb53c-a173-4233-bd2c-41a8d2036b89/
END:VEVENT
BEGIN:VEVENT
UID:6bbbfcbb2e88f047@ausschreibungsradar.com
DTSTAMP:20260425T164537Z
DTSTART;VALUE=DATE:20260105
DTEND;VALUE=DATE:20260105
SUMMARY:Vergabeergebnis — Neubau Martin-Niemöller-Gesamtschule-Gerüstarbeiten
DESCRIPTION:Phase: Vergabeergebnis | Beschreibung: Auftrag wurde zugeschlagen | Link: https://ausschreibungsradar.com/ausschreibung/05a6264d-9173-4eaf-88bb-f87d92ca4b0c/
URL:https://ausschreibungsradar.com/ausschreibung/05a6264d-9173-4eaf-88bb-f87d92ca4b0c/
END:VEVENT
BEGIN:VEVENT
UID:27fc33b672b87c8f@ausschreibungsradar.com
DTSTAMP:20260425T164537Z
DTSTART;VALUE=DATE:20260128
DTEND;VALUE=DATE:20260128
SUMMARY:Zuschlag — Neubau Martin-Niemöller-Gesamtschule-Gerüstarbeiten
DESCRIPTION:Phase: Zuschlag | Beschreibung: Vergabeergebnis — Auftrag wurde erteilt oder Verfahren beendet. | Link: https://ausschreibungsradar.com/ausschreibung/f9fad822-faf4-4595-bcbe-ba22e7d4bfa3/
URL:https://ausschreibungsradar.com/ausschreibung/f9fad822-faf4-4595-bcbe-ba22e7d4bfa3/
END:VEVENT
END:VCALENDAR
