BEGIN:VCALENDAR
VERSION:2.0
PRODID:-//AusschreibungsRadar//Timeline//DE
CALSCALE:GREGORIAN
METHOD:PUBLISH
X-WR-CALNAME:Projekt Planung und Bau einer Kita mit anschließender Vermietung an 
X-WR-TIMEZONE:Europe/Berlin
BEGIN:VEVENT
UID:9e23b05f0abf4c5b@ausschreibungsradar.com
DTSTAMP:20260425T113509Z
DTSTART;VALUE=DATE:20240916
DTEND;VALUE=DATE:20240916
SUMMARY:Ausschreibung — Planung und Bau einer Kita mit anschließender Vermietung an 
DESCRIPTION:Phase: Ausschreibung | Beschreibung: Angebote werden eingeholt | Link: https://ausschreibungsradar.com/ausschreibung/05bc9d3a-33ce-46df-95c7-4150b0b8702d/
URL:https://ausschreibungsradar.com/ausschreibung/05bc9d3a-33ce-46df-95c7-4150b0b8702d/
END:VEVENT
BEGIN:VEVENT
UID:68a2fa9d9e3eedf4@ausschreibungsradar.com
DTSTAMP:20260425T113509Z
DTSTART;VALUE=DATE:20250220
DTEND;VALUE=DATE:20250220
SUMMARY:Vergabeergebnis — Planung und Bau einer Kita mit anschließender Vermietung an 
DESCRIPTION:Phase: Vergabeergebnis | Beschreibung: Auftrag wurde zugeschlagen | Link: https://ausschreibungsradar.com/ausschreibung/e0f81764-ad73-49f6-a38d-13b92fa2bbe2/
URL:https://ausschreibungsradar.com/ausschreibung/e0f81764-ad73-49f6-a38d-13b92fa2bbe2/
END:VEVENT
END:VCALENDAR
