BEGIN:VCALENDAR
VERSION:2.0
PRODID:-//AusschreibungsRadar//Timeline//DE
CALSCALE:GREGORIAN
METHOD:PUBLISH
X-WR-CALNAME:Projekt Stadt Mörfelden-Walldorf, Sanierung und Neubau Ev. Kita Wall
X-WR-TIMEZONE:Europe/Berlin
BEGIN:VEVENT
UID:ef1042b2e75e2549@ausschreibungsradar.com
DTSTAMP:20260426T002716Z
DTSTART;VALUE=DATE:20250630
DTEND;VALUE=DATE:20250630
SUMMARY:Zuschlag — Stadt Mörfelden-Walldorf\, Sanierung und Neubau Ev. Kita Wall
DESCRIPTION:Phase: Zuschlag | Beschreibung: Vergabeergebnis — Auftrag wurde erteilt oder Verfahren beendet. | Link: https://ausschreibungsradar.com/ausschreibung/5d9b9f75-4342-4d60-91fa-004fb6335eb1/
URL:https://ausschreibungsradar.com/ausschreibung/5d9b9f75-4342-4d60-91fa-004fb6335eb1/
END:VEVENT
BEGIN:VEVENT
UID:726a4a8068e21602@ausschreibungsradar.com
DTSTAMP:20260426T002716Z
DTSTART;VALUE=DATE:20250813
DTEND;VALUE=DATE:20250813
SUMMARY:Angebotsfrist — Stadt Mörfelden-Walldorf\, Sanierung und Neubau Ev. Kita Wall
DESCRIPTION:Phase: Ausschreibung | Beschreibung: Angebote werden eingeholt | Link: https://ausschreibungsradar.com/ausschreibung/0779281b-a26f-4bd0-9bce-a8d3e4deeea2/
URL:https://ausschreibungsradar.com/ausschreibung/0779281b-a26f-4bd0-9bce-a8d3e4deeea2/
END:VEVENT
BEGIN:VEVENT
UID:1c161693c0a727d0@ausschreibungsradar.com
DTSTAMP:20260426T002716Z
DTSTART;VALUE=DATE:20250725
DTEND;VALUE=DATE:20250725
SUMMARY:Ausschreibung — Stadt Mörfelden-Walldorf\, Sanierung und Neubau Ev. Kita Wall
DESCRIPTION:Phase: Ausschreibung | Beschreibung: Offizielle Ausschreibung mit Bieterfrist. | Link: https://ausschreibungsradar.com/ausschreibung/c2a1d53d-4b0d-46fa-933a-5f9f6f5b94a3/
URL:https://ausschreibungsradar.com/ausschreibung/c2a1d53d-4b0d-46fa-933a-5f9f6f5b94a3/
END:VEVENT
BEGIN:VEVENT
UID:c6da5f7374b772e2@ausschreibungsradar.com
DTSTAMP:20260426T002716Z
DTSTART;VALUE=DATE:20260113
DTEND;VALUE=DATE:20260113
SUMMARY:Vergabeergebnis — Stadt Mörfelden-Walldorf\, Sanierung und Neubau Ev. Kita Wall
DESCRIPTION:Phase: Vergabeergebnis | Beschreibung: Auftrag wurde zugeschlagen | Link: https://ausschreibungsradar.com/ausschreibung/8748ea62-308f-42cf-88fe-a41221604bc8/
URL:https://ausschreibungsradar.com/ausschreibung/8748ea62-308f-42cf-88fe-a41221604bc8/
END:VEVENT
END:VCALENDAR
