BEGIN:VCALENDAR
VERSION:2.0
PRODID:-//AusschreibungsRadar//Timeline//DE
CALSCALE:GREGORIAN
METHOD:PUBLISH
X-WR-CALNAME:Projekt studierendenWERK BERLIN WH Siegmunds Hof 17, Haus 1, Heizung
X-WR-TIMEZONE:Europe/Berlin
BEGIN:VEVENT
UID:4df019b8de1a8485@ausschreibungsradar.com
DTSTAMP:20260423T230259Z
DTSTART;VALUE=DATE:20240613
DTEND;VALUE=DATE:20240613
SUMMARY:Ausschreibung — studierendenWERK BERLIN WH Siegmunds Hof 17\, Haus 1\, Heizung
DESCRIPTION:Phase: Ausschreibung | Beschreibung: Offizielle Ausschreibung mit Bieterfrist. | Link: https://ausschreibungsradar.com/ausschreibung/eac86895-5230-48e3-8a1a-c179d334cefd/
URL:https://ausschreibungsradar.com/ausschreibung/eac86895-5230-48e3-8a1a-c179d334cefd/
END:VEVENT
BEGIN:VEVENT
UID:990da675163c58ff@ausschreibungsradar.com
DTSTAMP:20260423T230259Z
DTSTART;VALUE=DATE:20240614
DTEND;VALUE=DATE:20240614
SUMMARY:Ausschreibung — studierendenWERK BERLIN WH Siegmunds Hof 17\, Haus 1\, Heizung
DESCRIPTION:Phase: Ausschreibung | Beschreibung: Offizielle Ausschreibung mit Bieterfrist. | Link: https://ausschreibungsradar.com/ausschreibung/fa5642e5-fb07-407b-adb1-ddb8f09a438f/
URL:https://ausschreibungsradar.com/ausschreibung/fa5642e5-fb07-407b-adb1-ddb8f09a438f/
END:VEVENT
BEGIN:VEVENT
UID:6983f1209ff5e9c1@ausschreibungsradar.com
DTSTAMP:20260423T230259Z
DTSTART;VALUE=DATE:20240614
DTEND;VALUE=DATE:20240614
SUMMARY:Ausschreibung — studierendenWERK BERLIN WH Siegmunds Hof 17\, Haus 1\, Heizung
DESCRIPTION:Phase: Ausschreibung | Beschreibung: Offizielle Ausschreibung mit Bieterfrist. | Link: https://ausschreibungsradar.com/ausschreibung/bb877ecc-2433-4cc4-a217-15be0ae28c63/
URL:https://ausschreibungsradar.com/ausschreibung/bb877ecc-2433-4cc4-a217-15be0ae28c63/
END:VEVENT
BEGIN:VEVENT
UID:8b1d98ee6d88a35b@ausschreibungsradar.com
DTSTAMP:20260423T230259Z
DTSTART;VALUE=DATE:20240716
DTEND;VALUE=DATE:20240716
SUMMARY:Angebotsfrist — studierendenWERK BERLIN WH Siegmunds Hof 17\, Haus 1\, Heizung
DESCRIPTION:Phase: Ausschreibung | Beschreibung: Angebote werden eingeholt | Link: https://ausschreibungsradar.com/ausschreibung/07a225f3-4c75-4c75-b0ef-2f0bf62f3617/
URL:https://ausschreibungsradar.com/ausschreibung/07a225f3-4c75-4c75-b0ef-2f0bf62f3617/
END:VEVENT
BEGIN:VEVENT
UID:1b0fe26360f8f287@ausschreibungsradar.com
DTSTAMP:20260423T230259Z
DTSTART;VALUE=DATE:20240625
DTEND;VALUE=DATE:20240625
SUMMARY:Ausschreibung — studierendenWERK BERLIN WH Siegmunds Hof 17\, Haus 1\, Heizung
DESCRIPTION:Phase: Ausschreibung | Beschreibung: Offizielle Ausschreibung mit Bieterfrist. | Link: https://ausschreibungsradar.com/ausschreibung/f7d167b2-556d-4009-b1ac-4352ddfe1c50/
URL:https://ausschreibungsradar.com/ausschreibung/f7d167b2-556d-4009-b1ac-4352ddfe1c50/
END:VEVENT
END:VCALENDAR
