BEGIN:VCALENDAR
VERSION:2.0
PRODID:-//AusschreibungsRadar//Timeline//DE
CALSCALE:GREGORIAN
METHOD:PUBLISH
X-WR-CALNAME:Projekt Schleswiger Stadtwerke - Kläranlage Schleswig Energiezentral
X-WR-TIMEZONE:Europe/Berlin
BEGIN:VEVENT
UID:ce7ca466d7b330bd@ausschreibungsradar.com
DTSTAMP:20260425T162513Z
DTSTART;VALUE=DATE:20251009
DTEND;VALUE=DATE:20251009
SUMMARY:Ausschreibung — Schleswiger Stadtwerke - Kläranlage Schleswig Energiezentral
DESCRIPTION:Phase: Ausschreibung | Beschreibung: Angebote werden eingeholt | Link: https://ausschreibungsradar.com/ausschreibung/07ede1c5-9d2f-4dfa-8c07-b8c0b62293ff/
URL:https://ausschreibungsradar.com/ausschreibung/07ede1c5-9d2f-4dfa-8c07-b8c0b62293ff/
END:VEVENT
BEGIN:VEVENT
UID:82f329e0ab074df7@ausschreibungsradar.com
DTSTAMP:20260425T162513Z
DTSTART;VALUE=DATE:20251009
DTEND;VALUE=DATE:20251009
SUMMARY:Ausschreibung — Schleswiger Stadtwerke - Kläranlage Schleswig Energiezentral
DESCRIPTION:Phase: Ausschreibung | Beschreibung: Offizielle Ausschreibung mit Bieterfrist. | Link: https://ausschreibungsradar.com/ausschreibung/43eb6606-6eee-4a40-ae09-44f1e85cb84f/
URL:https://ausschreibungsradar.com/ausschreibung/43eb6606-6eee-4a40-ae09-44f1e85cb84f/
END:VEVENT
BEGIN:VEVENT
UID:23124b7878525775@ausschreibungsradar.com
DTSTAMP:20260425T162513Z
DTSTART;VALUE=DATE:20260120
DTEND;VALUE=DATE:20260120
SUMMARY:Vergabeergebnis — Schleswiger Stadtwerke - Kläranlage Schleswig Energiezentral
DESCRIPTION:Phase: Vergabeergebnis | Beschreibung: Auftrag wurde zugeschlagen | Link: https://ausschreibungsradar.com/ausschreibung/0df0af4a-e2e1-4776-900f-77d34d772e84/
URL:https://ausschreibungsradar.com/ausschreibung/0df0af4a-e2e1-4776-900f-77d34d772e84/
END:VEVENT
END:VCALENDAR
