BEGIN:VCALENDAR
VERSION:2.0
PRODID:-//AusschreibungsRadar//Timeline//DE
CALSCALE:GREGORIAN
METHOD:PUBLISH
X-WR-CALNAME:Projekt ZV - Kommunalbetriebe Neustadt GmbH - Wohnbebauung Märchenpa
X-WR-TIMEZONE:Europe/Berlin
BEGIN:VEVENT
UID:9a0368372600d3d6@ausschreibungsradar.com
DTSTAMP:20260424T054818Z
DTSTART;VALUE=DATE:20260202
DTEND;VALUE=DATE:20260202
SUMMARY:Angebotsfrist — ZV - Kommunalbetriebe Neustadt GmbH - Wohnbebauung Märchenpa
DESCRIPTION:Phase: Ausschreibung | Beschreibung: Angebote werden eingeholt | Link: https://ausschreibungsradar.com/ausschreibung/3074330e-5afc-4cba-8a04-0eae4f34bf71/
URL:https://ausschreibungsradar.com/ausschreibung/3074330e-5afc-4cba-8a04-0eae4f34bf71/
END:VEVENT
BEGIN:VEVENT
UID:2afaaec32e1688a5@ausschreibungsradar.com
DTSTAMP:20260424T054818Z
DTSTART;VALUE=DATE:20260318
DTEND;VALUE=DATE:20260318
SUMMARY:Vergabeergebnis — ZV - Kommunalbetriebe Neustadt GmbH - Wohnbebauung Märchenpa
DESCRIPTION:Phase: Vergabeergebnis | Beschreibung: Auftrag wurde zugeschlagen | Link: https://ausschreibungsradar.com/ausschreibung/0848712e-95e4-4053-958d-fa7f1a06a875/
URL:https://ausschreibungsradar.com/ausschreibung/0848712e-95e4-4053-958d-fa7f1a06a875/
END:VEVENT
BEGIN:VEVENT
UID:e6ff20583e1e95fd@ausschreibungsradar.com
DTSTAMP:20260424T054818Z
DTSTART;VALUE=DATE:20260318
DTEND;VALUE=DATE:20260318
SUMMARY:Zuschlag — ZV - Kommunalbetriebe Neustadt GmbH - Wohnbebauung Märchenpa
DESCRIPTION:Phase: Zuschlag | Beschreibung: Vergabeergebnis — Auftrag wurde erteilt oder Verfahren beendet. | Link: https://ausschreibungsradar.com/ausschreibung/cd10899d-9f38-4bdf-9181-eb4408aca6e9/
URL:https://ausschreibungsradar.com/ausschreibung/cd10899d-9f38-4bdf-9181-eb4408aca6e9/
END:VEVENT
BEGIN:VEVENT
UID:61216536dd65b57e@ausschreibungsradar.com
DTSTAMP:20260424T054818Z
DTSTART;VALUE=DATE:20260320
DTEND;VALUE=DATE:20260320
SUMMARY:Zuschlag — ZV - Kommunalbetriebe Neustadt GmbH - Wohnbebauung Märchenpa
DESCRIPTION:Phase: Zuschlag | Beschreibung: Vergabeergebnis — Auftrag wurde erteilt oder Verfahren beendet. | Link: https://ausschreibungsradar.com/ausschreibung/9cef4036-e1b0-407d-8917-c201d7617034/
URL:https://ausschreibungsradar.com/ausschreibung/9cef4036-e1b0-407d-8917-c201d7617034/
END:VEVENT
END:VCALENDAR
