BEGIN:VCALENDAR
VERSION:2.0
PRODID:-//AusschreibungsRadar//Timeline//DE
CALSCALE:GREGORIAN
METHOD:PUBLISH
X-WR-CALNAME:Projekt B 19, ENB 2 Br. BW in Untergröningen
X-WR-TIMEZONE:Europe/Berlin
BEGIN:VEVENT
UID:9a5baed33dec17d8@ausschreibungsradar.com
DTSTAMP:20260426T004545Z
DTSTART;VALUE=DATE:20251126
DTEND;VALUE=DATE:20251126
SUMMARY:Angebotsfrist — B 19\, ENB 2 Br. BW in Untergröningen
DESCRIPTION:Phase: Ausschreibung | Beschreibung: Angebote werden eingeholt | Link: https://ausschreibungsradar.com/ausschreibung/0862ecd4-13bd-4f29-ba55-dc78ccd03661/
URL:https://ausschreibungsradar.com/ausschreibung/0862ecd4-13bd-4f29-ba55-dc78ccd03661/
END:VEVENT
BEGIN:VEVENT
UID:420fd5433c9347e4@ausschreibungsradar.com
DTSTAMP:20260426T004545Z
DTSTART;VALUE=DATE:20260310
DTEND;VALUE=DATE:20260310
SUMMARY:Vergabeergebnis — B 19\, ENB 2 Br. BW in Untergröningen
DESCRIPTION:Phase: Vergabeergebnis | Beschreibung: Auftrag wurde zugeschlagen | Link: https://ausschreibungsradar.com/ausschreibung/a5665e01-29c6-47b6-aa41-c06a662b8104/
URL:https://ausschreibungsradar.com/ausschreibung/a5665e01-29c6-47b6-aa41-c06a662b8104/
END:VEVENT
END:VCALENDAR
