BEGIN:VCALENDAR
VERSION:2.0
PRODID:-//AusschreibungsRadar//Timeline//DE
CALSCALE:GREGORIAN
METHOD:PUBLISH
X-WR-CALNAME:Projekt Abschlusses eines nicht-exkl. Rabattvertrags nach § 130a Abs
X-WR-TIMEZONE:Europe/Berlin
BEGIN:VEVENT
UID:a89b3cf0b2d56347@ausschreibungsradar.com
DTSTAMP:20260424T050303Z
DTSTART;VALUE=DATE:20260218
DTEND;VALUE=DATE:20260218
SUMMARY:Ausschreibung — Abschlusses eines nicht-exkl. Rabattvertrags nach § 130a Abs
DESCRIPTION:Phase: Ausschreibung | Beschreibung: Offizielle Ausschreibung mit Bieterfrist. | Link: https://ausschreibungsradar.com/ausschreibung/802d7ac2-1957-452f-abd4-bfc55967308f/
URL:https://ausschreibungsradar.com/ausschreibung/802d7ac2-1957-452f-abd4-bfc55967308f/
END:VEVENT
BEGIN:VEVENT
UID:fb213061397c03f7@ausschreibungsradar.com
DTSTAMP:20260424T050303Z
DTSTART;VALUE=DATE:20260309
DTEND;VALUE=DATE:20260309
SUMMARY:Ausschreibung — Abschlusses eines nicht-exkl. Rabattvertrags nach § 130a Abs
DESCRIPTION:Phase: Ausschreibung | Beschreibung: Offizielle Ausschreibung mit Bieterfrist. | Link: https://ausschreibungsradar.com/ausschreibung/37113b95-8b43-481b-b8e4-11bbc7b36c23/
URL:https://ausschreibungsradar.com/ausschreibung/37113b95-8b43-481b-b8e4-11bbc7b36c23/
END:VEVENT
BEGIN:VEVENT
UID:e7acb3cf805d10e0@ausschreibungsradar.com
DTSTAMP:20260424T050303Z
DTSTART;VALUE=DATE:20260409
DTEND;VALUE=DATE:20260409
SUMMARY:Angebotsfrist — Abschlusses eines nicht-exkl. Rabattvertrags nach § 130a Abs
DESCRIPTION:Phase: Ausschreibung | Beschreibung: Angebote werden eingeholt | Link: https://ausschreibungsradar.com/ausschreibung/0962a6c2-e58d-4b28-b561-2f586c9dc911/
URL:https://ausschreibungsradar.com/ausschreibung/0962a6c2-e58d-4b28-b561-2f586c9dc911/
END:VEVENT
BEGIN:VEVENT
UID:3a57de8da882d25e@ausschreibungsradar.com
DTSTAMP:20260424T050303Z
DTSTART;VALUE=DATE:20260416
DTEND;VALUE=DATE:20260416
SUMMARY:Ausschreibung — Abschlusses eines nicht-exkl. Rabattvertrags nach § 130a Abs
DESCRIPTION:Phase: Ausschreibung | Beschreibung: Offizielle Ausschreibung mit Bieterfrist. | Link: https://ausschreibungsradar.com/ausschreibung/8ff0d075-b3d7-4c7d-8c85-d0bc03b38689/
URL:https://ausschreibungsradar.com/ausschreibung/8ff0d075-b3d7-4c7d-8c85-d0bc03b38689/
END:VEVENT
END:VCALENDAR
