BEGIN:VCALENDAR
VERSION:2.0
PRODID:-//AusschreibungsRadar//Timeline//DE
CALSCALE:GREGORIAN
METHOD:PUBLISH
X-WR-CALNAME:Projekt Schwimmsportkomplex Dresden Freiberger Platz; RV Reinigungsl
X-WR-TIMEZONE:Europe/Berlin
BEGIN:VEVENT
UID:8af39c02c91b7543@ausschreibungsradar.com
DTSTAMP:20260425T021746Z
DTSTART;VALUE=DATE:20240521
DTEND;VALUE=DATE:20240521
SUMMARY:Angebotsfrist — Schwimmsportkomplex Dresden Freiberger Platz\; RV Reinigungsl
DESCRIPTION:Phase: Ausschreibung | Beschreibung: Angebote werden eingeholt | Link: https://ausschreibungsradar.com/ausschreibung/0ada96f2-b37e-4522-8fed-db06843ef50b/
URL:https://ausschreibungsradar.com/ausschreibung/0ada96f2-b37e-4522-8fed-db06843ef50b/
END:VEVENT
BEGIN:VEVENT
UID:3686afd8d40f855e@ausschreibungsradar.com
DTSTAMP:20260425T021746Z
DTSTART;VALUE=DATE:20240424
DTEND;VALUE=DATE:20240424
SUMMARY:Ausschreibung — Schwimmsportkomplex Dresden Freiberger Platz\; RV Reinigungsl
DESCRIPTION:Phase: Ausschreibung | Beschreibung: Offizielle Ausschreibung mit Bieterfrist. | Link: https://ausschreibungsradar.com/ausschreibung/21960542/
URL:https://ausschreibungsradar.com/ausschreibung/21960542/
END:VEVENT
END:VCALENDAR
