BEGIN:VCALENDAR
VERSION:2.0
PRODID:-//AusschreibungsRadar//Timeline//DE
CALSCALE:GREGORIAN
METHOD:PUBLISH
X-WR-CALNAME:Projekt Neubau Gymnasium Überlingen - Leistungen der Technischen Aus
X-WR-TIMEZONE:Europe/Berlin
BEGIN:VEVENT
UID:7ba4177ebdd36eb7@ausschreibungsradar.com
DTSTAMP:20260424T160745Z
DTSTART;VALUE=DATE:20241219
DTEND;VALUE=DATE:20241219
SUMMARY:Ausschreibung — Neubau Gymnasium Überlingen - Leistungen der Technischen Aus
DESCRIPTION:Phase: Ausschreibung | Beschreibung: Angebote werden eingeholt | Link: https://ausschreibungsradar.com/ausschreibung/b0cb8f90-6366-496b-9da0-be16700d59cd/
URL:https://ausschreibungsradar.com/ausschreibung/b0cb8f90-6366-496b-9da0-be16700d59cd/
END:VEVENT
BEGIN:VEVENT
UID:7a3e37ec5cb0254f@ausschreibungsradar.com
DTSTAMP:20260424T160745Z
DTSTART;VALUE=DATE:20251211
DTEND;VALUE=DATE:20251211
SUMMARY:Vergabeergebnis — Neubau Gymnasium Überlingen - Leistungen der Technischen Aus
DESCRIPTION:Phase: Vergabeergebnis | Beschreibung: Auftrag wurde zugeschlagen | Link: https://ausschreibungsradar.com/ausschreibung/0ba2abe6-4916-4c36-9a00-d5b93f4fbf92/
URL:https://ausschreibungsradar.com/ausschreibung/0ba2abe6-4916-4c36-9a00-d5b93f4fbf92/
END:VEVENT
BEGIN:VEVENT
UID:07e5d70d1b2120ec@ausschreibungsradar.com
DTSTAMP:20260424T160745Z
DTSTART;VALUE=DATE:20251211
DTEND;VALUE=DATE:20251211
SUMMARY:Zuschlag — Neubau Gymnasium Überlingen - Leistungen der Technischen Aus
DESCRIPTION:Phase: Zuschlag | Beschreibung: Vergabeergebnis — Auftrag wurde erteilt oder Verfahren beendet. | Link: https://ausschreibungsradar.com/ausschreibung/9e35ad8a-900e-4dd6-9880-42b0d6ce9e8e/
URL:https://ausschreibungsradar.com/ausschreibung/9e35ad8a-900e-4dd6-9880-42b0d6ce9e8e/
END:VEVENT
END:VCALENDAR
