BEGIN:VCALENDAR
VERSION:2.0
PRODID:-//AusschreibungsRadar//Timeline//DE
CALSCALE:GREGORIAN
METHOD:PUBLISH
X-WR-CALNAME:Projekt AE - Teilneubau der Grundschule Groß Berkel - Tischlerarbeit
X-WR-TIMEZONE:Europe/Berlin
BEGIN:VEVENT
UID:c6124cadc4f48362@ausschreibungsradar.com
DTSTAMP:20260424T223841Z
DTSTART;VALUE=DATE:20250909
DTEND;VALUE=DATE:20250909
SUMMARY:Angebotsfrist — AE - Teilneubau der Grundschule Groß Berkel - Tischlerarbeit
DESCRIPTION:Phase: Ausschreibung | Beschreibung: Angebote werden eingeholt | Link: https://ausschreibungsradar.com/ausschreibung/d828260a-e525-45a2-9413-4398368fb9e6/
URL:https://ausschreibungsradar.com/ausschreibung/d828260a-e525-45a2-9413-4398368fb9e6/
END:VEVENT
BEGIN:VEVENT
UID:92ec40b88e7410e8@ausschreibungsradar.com
DTSTAMP:20260424T223841Z
DTSTART;VALUE=DATE:20250926
DTEND;VALUE=DATE:20250926
SUMMARY:Ausschreibung — AE - Teilneubau der Grundschule Groß Berkel - Tischlerarbeit
DESCRIPTION:Phase: Ausschreibung | Beschreibung: Offizielle Ausschreibung mit Bieterfrist. | Link: https://ausschreibungsradar.com/ausschreibung/d764e823-8225-4e36-9419-2bb11ad500e3/
URL:https://ausschreibungsradar.com/ausschreibung/d764e823-8225-4e36-9419-2bb11ad500e3/
END:VEVENT
BEGIN:VEVENT
UID:cc1c2ffff805a812@ausschreibungsradar.com
DTSTAMP:20260424T223841Z
DTSTART;VALUE=DATE:20251013
DTEND;VALUE=DATE:20251013
SUMMARY:Zuschlag — AE - Teilneubau der Grundschule Groß Berkel - Tischlerarbeit
DESCRIPTION:Phase: Zuschlag | Beschreibung: Vergabeergebnis — Auftrag wurde erteilt oder Verfahren beendet. | Link: https://ausschreibungsradar.com/ausschreibung/7d4f8784-e6ed-453d-b2bf-dda94cc8c215/
URL:https://ausschreibungsradar.com/ausschreibung/7d4f8784-e6ed-453d-b2bf-dda94cc8c215/
END:VEVENT
BEGIN:VEVENT
UID:3afb37440c998397@ausschreibungsradar.com
DTSTAMP:20260424T223841Z
DTSTART;VALUE=DATE:20251017
DTEND;VALUE=DATE:20251017
SUMMARY:Vergabeergebnis — AE - Teilneubau der Grundschule Groß Berkel - Tischlerarbeit
DESCRIPTION:Phase: Vergabeergebnis | Beschreibung: Keine Angebote eingegangen | Link: https://ausschreibungsradar.com/ausschreibung/0c64f454-01b3-499c-a3c3-c2faa337ee7c/
URL:https://ausschreibungsradar.com/ausschreibung/0c64f454-01b3-499c-a3c3-c2faa337ee7c/
END:VEVENT
END:VCALENDAR
