BEGIN:VCALENDAR
VERSION:2.0
PRODID:-//AusschreibungsRadar//Timeline//DE
CALSCALE:GREGORIAN
METHOD:PUBLISH
X-WR-CALNAME:Projekt Modernisierung Studierendenwohnheim Ernst-Thälmann-Ring 8 - 
X-WR-TIMEZONE:Europe/Berlin
BEGIN:VEVENT
UID:32e4af1da82ab96d@ausschreibungsradar.com
DTSTAMP:20260424T211439Z
DTSTART;VALUE=DATE:20250825
DTEND;VALUE=DATE:20250825
SUMMARY:Ausschreibung — Modernisierung Studierendenwohnheim Ernst-Thälmann-Ring 8 - 
DESCRIPTION:Phase: Ausschreibung | Beschreibung: Angebote werden eingeholt | Link: https://ausschreibungsradar.com/ausschreibung/0ca2018e-0d4d-4387-89bd-70e4bf26206c/
URL:https://ausschreibungsradar.com/ausschreibung/0ca2018e-0d4d-4387-89bd-70e4bf26206c/
END:VEVENT
BEGIN:VEVENT
UID:c4d9d6e6715d426f@ausschreibungsradar.com
DTSTAMP:20260424T211439Z
DTSTART;VALUE=DATE:20251002
DTEND;VALUE=DATE:20251002
SUMMARY:Vergabeergebnis — Modernisierung Studierendenwohnheim Ernst-Thälmann-Ring 8 - 
DESCRIPTION:Phase: Vergabeergebnis | Beschreibung: Keine Angebote eingegangen | Link: https://ausschreibungsradar.com/ausschreibung/695c7377-3d4c-48c8-bd6f-d7ca8667e0cd/
URL:https://ausschreibungsradar.com/ausschreibung/695c7377-3d4c-48c8-bd6f-d7ca8667e0cd/
END:VEVENT
END:VCALENDAR
