BEGIN:VCALENDAR
VERSION:2.0
PRODID:-//AusschreibungsRadar//Timeline//DE
CALSCALE:GREGORIAN
METHOD:PUBLISH
X-WR-CALNAME:Projekt Neuerrichtung eines Verwaltungsgebäudes in modularer Bauweis
X-WR-TIMEZONE:Europe/Berlin
BEGIN:VEVENT
UID:9c30824ef00e7527@ausschreibungsradar.com
DTSTAMP:20260425T135129Z
DTSTART;VALUE=DATE:20241219
DTEND;VALUE=DATE:20241219
SUMMARY:Angebotsfrist — Neuerrichtung eines Verwaltungsgebäudes in modularer Bauweis
DESCRIPTION:Phase: Ausschreibung | Beschreibung: Angebote werden eingeholt | Link: https://ausschreibungsradar.com/ausschreibung/0d09ea17-b6c9-46a7-9c99-0b5f2269bd13/
URL:https://ausschreibungsradar.com/ausschreibung/0d09ea17-b6c9-46a7-9c99-0b5f2269bd13/
END:VEVENT
BEGIN:VEVENT
UID:f4a7836b7e81c46c@ausschreibungsradar.com
DTSTAMP:20260425T135129Z
DTSTART;VALUE=DATE:20241010
DTEND;VALUE=DATE:20241010
SUMMARY:Ausschreibung — Neuerrichtung eines Verwaltungsgebäudes in modularer Bauweis
DESCRIPTION:Phase: Ausschreibung | Beschreibung: Offizielle Ausschreibung mit Bieterfrist. | Link: https://ausschreibungsradar.com/ausschreibung/5a0ed50c-1e51-4b8f-ad54-189a1eb896fa/
URL:https://ausschreibungsradar.com/ausschreibung/5a0ed50c-1e51-4b8f-ad54-189a1eb896fa/
END:VEVENT
BEGIN:VEVENT
UID:05db816b0254b955@ausschreibungsradar.com
DTSTAMP:20260425T135129Z
DTSTART;VALUE=DATE:20241010
DTEND;VALUE=DATE:20241010
SUMMARY:Ausschreibung — Neuerrichtung eines Verwaltungsgebäudes in modularer Bauweis
DESCRIPTION:Phase: Ausschreibung | Beschreibung: Offizielle Ausschreibung mit Bieterfrist. | Link: https://ausschreibungsradar.com/ausschreibung/16be55e4-1183-4b59-904b-2f9c220aad31/
URL:https://ausschreibungsradar.com/ausschreibung/16be55e4-1183-4b59-904b-2f9c220aad31/
END:VEVENT
BEGIN:VEVENT
UID:5776207aea4492c0@ausschreibungsradar.com
DTSTAMP:20260425T135129Z
DTSTART;VALUE=DATE:20241010
DTEND;VALUE=DATE:20241010
SUMMARY:Ausschreibung — Neuerrichtung eines Verwaltungsgebäudes in modularer Bauweis
DESCRIPTION:Phase: Ausschreibung | Beschreibung: Offizielle Ausschreibung mit Bieterfrist. | Link: https://ausschreibungsradar.com/ausschreibung/41f28f00-4ba9-4b98-9c29-0ade5f1f8fc6/
URL:https://ausschreibungsradar.com/ausschreibung/41f28f00-4ba9-4b98-9c29-0ade5f1f8fc6/
END:VEVENT
BEGIN:VEVENT
UID:26c8cd9819a4ffd5@ausschreibungsradar.com
DTSTAMP:20260425T135129Z
DTSTART;VALUE=DATE:20241010
DTEND;VALUE=DATE:20241010
SUMMARY:Ausschreibung — Neuerrichtung eines Verwaltungsgebäudes in modularer Bauweis
DESCRIPTION:Phase: Ausschreibung | Beschreibung: Offizielle Ausschreibung mit Bieterfrist. | Link: https://ausschreibungsradar.com/ausschreibung/253a753a-1b3c-4a34-b0f5-2b9d61ea7b6d/
URL:https://ausschreibungsradar.com/ausschreibung/253a753a-1b3c-4a34-b0f5-2b9d61ea7b6d/
END:VEVENT
BEGIN:VEVENT
UID:150c8c9a7bc04c78@ausschreibungsradar.com
DTSTAMP:20260425T135129Z
DTSTART;VALUE=DATE:20241010
DTEND;VALUE=DATE:20241010
SUMMARY:Ausschreibung — Neuerrichtung eines Verwaltungsgebäudes in modularer Bauweis
DESCRIPTION:Phase: Ausschreibung | Beschreibung: Offizielle Ausschreibung mit Bieterfrist. | Link: https://ausschreibungsradar.com/ausschreibung/e3df61b7-fb7b-4ae2-9704-81d0e5cf39de/
URL:https://ausschreibungsradar.com/ausschreibung/e3df61b7-fb7b-4ae2-9704-81d0e5cf39de/
END:VEVENT
END:VCALENDAR
