BEGIN:VCALENDAR
VERSION:2.0
PRODID:-//AusschreibungsRadar//Timeline//DE
CALSCALE:GREGORIAN
METHOD:PUBLISH
X-WR-CALNAME:Projekt Postdienstleistungen gegenüber dem Kreis Minden-Lübbecke und
X-WR-TIMEZONE:Europe/Berlin
BEGIN:VEVENT
UID:d1b86306eaf5a98e@ausschreibungsradar.com
DTSTAMP:20260424T200221Z
DTSTART;VALUE=DATE:20250331
DTEND;VALUE=DATE:20250331
SUMMARY:Angebotsfrist — Postdienstleistungen gegenüber dem Kreis Minden-Lübbecke und
DESCRIPTION:Phase: Ausschreibung | Beschreibung: Angebote werden eingeholt | Link: https://ausschreibungsradar.com/ausschreibung/94eb8ace-5f86-4759-8615-1652a7974243/
URL:https://ausschreibungsradar.com/ausschreibung/94eb8ace-5f86-4759-8615-1652a7974243/
END:VEVENT
BEGIN:VEVENT
UID:45b0864992140a0d@ausschreibungsradar.com
DTSTAMP:20260424T200221Z
DTSTART;VALUE=DATE:20250617
DTEND;VALUE=DATE:20250617
SUMMARY:Vergabeergebnis — Postdienstleistungen gegenüber dem Kreis Minden-Lübbecke und
DESCRIPTION:Phase: Vergabeergebnis | Beschreibung: Auftrag wurde zugeschlagen | Link: https://ausschreibungsradar.com/ausschreibung/0d1a3deb-4d66-4f46-b5a7-dd3478da7f3c/
URL:https://ausschreibungsradar.com/ausschreibung/0d1a3deb-4d66-4f46-b5a7-dd3478da7f3c/
END:VEVENT
END:VCALENDAR
