BEGIN:VCALENDAR
VERSION:2.0
PRODID:-//AusschreibungsRadar//Timeline//DE
CALSCALE:GREGORIAN
METHOD:PUBLISH
X-WR-CALNAME:Projekt Gutachten zur Überprüfung der Verkehrstauglichkeit von Kraft
X-WR-TIMEZONE:Europe/Berlin
BEGIN:VEVENT
UID:da97495180f3179d@ausschreibungsradar.com
DTSTAMP:20260425T124616Z
DTSTART;VALUE=DATE:20250804
DTEND;VALUE=DATE:20250804
SUMMARY:Ausschreibung — Gutachten zur Überprüfung der Verkehrstauglichkeit von Kraft
DESCRIPTION:Phase: Ausschreibung | Beschreibung: Angebote werden eingeholt | Link: https://ausschreibungsradar.com/ausschreibung/c245aab4-01c3-4ffa-bdd6-2374afc36067/ | Geschätzter Wert: 792000 €
URL:https://ausschreibungsradar.com/ausschreibung/c245aab4-01c3-4ffa-bdd6-2374afc36067/
END:VEVENT
BEGIN:VEVENT
UID:5f732b5f7a054ab1@ausschreibungsradar.com
DTSTAMP:20260425T124616Z
DTSTART;VALUE=DATE:20251027
DTEND;VALUE=DATE:20251027
SUMMARY:Vergabeergebnis — Gutachten zur Überprüfung der Verkehrstauglichkeit von Kraft
DESCRIPTION:Phase: Vergabeergebnis | Beschreibung: Auftrag wurde zugeschlagen | Link: https://ausschreibungsradar.com/ausschreibung/0d400b0d-cb7c-4c1b-b435-06182e0f58d6/ | Geschätzter Wert: 792000 €
URL:https://ausschreibungsradar.com/ausschreibung/0d400b0d-cb7c-4c1b-b435-06182e0f58d6/
END:VEVENT
END:VCALENDAR
