BEGIN:VCALENDAR
VERSION:2.0
PRODID:-//AusschreibungsRadar//Timeline//DE
CALSCALE:GREGORIAN
METHOD:PUBLISH
X-WR-CALNAME:Projekt Ferntransport und die Entsorgung von festen Abfällen aus der
X-WR-TIMEZONE:Europe/Berlin
BEGIN:VEVENT
UID:10ea4083203c0067@ausschreibungsradar.com
DTSTAMP:20260425T170609Z
DTSTART;VALUE=DATE:20240517
DTEND;VALUE=DATE:20240517
SUMMARY:Ausschreibung — Ferntransport und die Entsorgung von festen Abfällen aus der
DESCRIPTION:Phase: Ausschreibung | Beschreibung: Offizielle Ausschreibung mit Bieterfrist. | Link: https://ausschreibungsradar.com/ausschreibung/6f75e93b-8599-4d44-b3a1-947fafcdc613/
URL:https://ausschreibungsradar.com/ausschreibung/6f75e93b-8599-4d44-b3a1-947fafcdc613/
END:VEVENT
BEGIN:VEVENT
UID:34c2756c1177bea2@ausschreibungsradar.com
DTSTAMP:20260425T170609Z
DTSTART;VALUE=DATE:20240802
DTEND;VALUE=DATE:20240802
SUMMARY:Zuschlag — Ferntransport und die Entsorgung von festen Abfällen aus der
DESCRIPTION:Phase: Zuschlag | Beschreibung: Vergabeergebnis — Auftrag wurde erteilt oder Verfahren beendet. | Link: https://ausschreibungsradar.com/ausschreibung/854af2fa-2068-45e5-9731-d230c5563b1b/
URL:https://ausschreibungsradar.com/ausschreibung/854af2fa-2068-45e5-9731-d230c5563b1b/
END:VEVENT
BEGIN:VEVENT
UID:dafbcda888ee3729@ausschreibungsradar.com
DTSTAMP:20260425T170609Z
DTSTART;VALUE=DATE:20241029
DTEND;VALUE=DATE:20241029
SUMMARY:Angebotsfrist — Ferntransport und die Entsorgung von festen Abfällen aus der
DESCRIPTION:Phase: Ausschreibung | Beschreibung: Angebote werden eingeholt | Link: https://ausschreibungsradar.com/ausschreibung/0d448f89-75f4-4d44-a115-ca0e5046259a/
URL:https://ausschreibungsradar.com/ausschreibung/0d448f89-75f4-4d44-a115-ca0e5046259a/
END:VEVENT
BEGIN:VEVENT
UID:575fddc4d3e54658@ausschreibungsradar.com
DTSTAMP:20260425T170609Z
DTSTART;VALUE=DATE:20241204
DTEND;VALUE=DATE:20241204
SUMMARY:Vergabeergebnis — Ferntransport und die Entsorgung von festen Abfällen aus der
DESCRIPTION:Phase: Vergabeergebnis | Beschreibung: Auftrag wurde zugeschlagen | Link: https://ausschreibungsradar.com/ausschreibung/27482ddc-0d22-4b31-9d6d-6cac54425d9f/
URL:https://ausschreibungsradar.com/ausschreibung/27482ddc-0d22-4b31-9d6d-6cac54425d9f/
END:VEVENT
END:VCALENDAR
