BEGIN:VCALENDAR
VERSION:2.0
PRODID:-//AusschreibungsRadar//Timeline//DE
CALSCALE:GREGORIAN
METHOD:PUBLISH
X-WR-CALNAME:Projekt Rahmenvertrag über den Druck und die Lieferung von Werbe- un
X-WR-TIMEZONE:Europe/Berlin
BEGIN:VEVENT
UID:05ee1203dfa10fa3@ausschreibungsradar.com
DTSTAMP:20260425T231748Z
DTSTART;VALUE=DATE:20240726
DTEND;VALUE=DATE:20240726
SUMMARY:Ausschreibung — Rahmenvertrag über den Druck und die Lieferung von Werbe- un
DESCRIPTION:Phase: Ausschreibung | Beschreibung: Angebote werden eingeholt | Link: https://ausschreibungsradar.com/ausschreibung/0dccb7e0-1a20-4f95-9684-b3c98dbc248a/
URL:https://ausschreibungsradar.com/ausschreibung/0dccb7e0-1a20-4f95-9684-b3c98dbc248a/
END:VEVENT
BEGIN:VEVENT
UID:2980e72bfabc54ca@ausschreibungsradar.com
DTSTAMP:20260425T231748Z
DTSTART;VALUE=DATE:20240726
DTEND;VALUE=DATE:20240726
SUMMARY:Ausschreibung — Rahmenvertrag über den Druck und die Lieferung von Werbe- un
DESCRIPTION:Phase: Ausschreibung | Beschreibung: Offizielle Ausschreibung mit Bieterfrist. | Link: https://ausschreibungsradar.com/ausschreibung/1e64b121-3ef1-4574-96d6-5e05c993a70a/
URL:https://ausschreibungsradar.com/ausschreibung/1e64b121-3ef1-4574-96d6-5e05c993a70a/
END:VEVENT
BEGIN:VEVENT
UID:29192e0e5f034605@ausschreibungsradar.com
DTSTAMP:20260425T231748Z
DTSTART;VALUE=DATE:20240729
DTEND;VALUE=DATE:20240729
SUMMARY:Ausschreibung — Rahmenvertrag über den Druck und die Lieferung von Werbe- un
DESCRIPTION:Phase: Ausschreibung | Beschreibung: Offizielle Ausschreibung mit Bieterfrist. | Link: https://ausschreibungsradar.com/ausschreibung/ted-454666-2024/
URL:https://ausschreibungsradar.com/ausschreibung/ted-454666-2024/
END:VEVENT
BEGIN:VEVENT
UID:3ee61ef71a4ca825@ausschreibungsradar.com
DTSTAMP:20260425T231748Z
DTSTART;VALUE=DATE:20241014
DTEND;VALUE=DATE:20241014
SUMMARY:Vergabeergebnis — Rahmenvertrag über den Druck und die Lieferung von Werbe- un
DESCRIPTION:Phase: Vergabeergebnis | Beschreibung: Auftrag wurde zugeschlagen | Link: https://ausschreibungsradar.com/ausschreibung/003a6bfc-863e-471c-b5c6-84fd5e4f7ece/
URL:https://ausschreibungsradar.com/ausschreibung/003a6bfc-863e-471c-b5c6-84fd5e4f7ece/
END:VEVENT
END:VCALENDAR
