BEGIN:VCALENDAR
VERSION:2.0
PRODID:-//AusschreibungsRadar//Timeline//DE
CALSCALE:GREGORIAN
METHOD:PUBLISH
X-WR-CALNAME:Projekt Neubau Kfz-Hallen LEOPARD II

Rohbauarbeiten
X-WR-TIMEZONE:Europe/Berlin
BEGIN:VEVENT
UID:c685bba1aa7a4304@ausschreibungsradar.com
DTSTAMP:20260423T234550Z
DTSTART;VALUE=DATE:20260130
DTEND;VALUE=DATE:20260130
SUMMARY:Angebotsfrist — Neubau Kfz-Hallen LEOPARD II\n\nRohbauarbeiten
DESCRIPTION:Phase: Ausschreibung | Beschreibung: Angebote werden eingeholt | Link: https://ausschreibungsradar.com/ausschreibung/0df9dcb0-c186-4770-b9fe-aeeb8f7a5d2d/ | Geschätzter Wert: 1895499 €
URL:https://ausschreibungsradar.com/ausschreibung/0df9dcb0-c186-4770-b9fe-aeeb8f7a5d2d/
END:VEVENT
BEGIN:VEVENT
UID:3de5b9dd491d41b8@ausschreibungsradar.com
DTSTAMP:20260423T234550Z
DTSTART;VALUE=DATE:20251219
DTEND;VALUE=DATE:20251219
SUMMARY:Ausschreibung — Neubau Kfz-Hallen LEOPARD II\n\nRohbauarbeiten
DESCRIPTION:Phase: Ausschreibung | Beschreibung: Offizielle Ausschreibung mit Bieterfrist. | Link: https://ausschreibungsradar.com/ausschreibung/2f88e0ee-746b-4e47-a9d2-771444df61ce/
URL:https://ausschreibungsradar.com/ausschreibung/2f88e0ee-746b-4e47-a9d2-771444df61ce/
END:VEVENT
BEGIN:VEVENT
UID:b6c3033db175c1ac@ausschreibungsradar.com
DTSTAMP:20260423T234550Z
DTSTART;VALUE=DATE:20260102
DTEND;VALUE=DATE:20260102
SUMMARY:Ausschreibung — Neubau Kfz-Hallen LEOPARD II\n\nRohbauarbeiten
DESCRIPTION:Phase: Ausschreibung | Beschreibung: Offizielle Ausschreibung mit Bieterfrist. | Link: https://ausschreibungsradar.com/ausschreibung/0341e98e-6ce8-4bb0-931f-7a94d16df1f8/
URL:https://ausschreibungsradar.com/ausschreibung/0341e98e-6ce8-4bb0-931f-7a94d16df1f8/
END:VEVENT
BEGIN:VEVENT
UID:ba38b3d657bbe882@ausschreibungsradar.com
DTSTAMP:20260423T234550Z
DTSTART;VALUE=DATE:20260316
DTEND;VALUE=DATE:20260316
SUMMARY:Vergabeergebnis — Neubau Kfz-Hallen LEOPARD II\n\nRohbauarbeiten
DESCRIPTION:Phase: Vergabeergebnis | Beschreibung: Auftrag wurde zugeschlagen | Link: https://ausschreibungsradar.com/ausschreibung/45643917-f787-4d4b-8285-01f9649c0c16/
URL:https://ausschreibungsradar.com/ausschreibung/45643917-f787-4d4b-8285-01f9649c0c16/
END:VEVENT
END:VCALENDAR
