BEGIN:VCALENDAR
VERSION:2.0
PRODID:-//AusschreibungsRadar//Timeline//DE
CALSCALE:GREGORIAN
METHOD:PUBLISH
X-WR-CALNAME:Projekt Sanierung des Freibades in Herborn - Heizung
X-WR-TIMEZONE:Europe/Berlin
BEGIN:VEVENT
UID:cf0b726f90403028@ausschreibungsradar.com
DTSTAMP:20260424T203732Z
DTSTART;VALUE=DATE:20250926
DTEND;VALUE=DATE:20250926
SUMMARY:Zuschlag — Sanierung des Freibades in Herborn - Heizung
DESCRIPTION:Phase: Zuschlag | Beschreibung: Vergabeergebnis — Auftrag wurde erteilt oder Verfahren beendet. | Link: https://ausschreibungsradar.com/ausschreibung/5339ef01-f0bb-4034-be05-b1d21258a58d/
URL:https://ausschreibungsradar.com/ausschreibung/5339ef01-f0bb-4034-be05-b1d21258a58d/
END:VEVENT
BEGIN:VEVENT
UID:3bf82c1c4c6b5781@ausschreibungsradar.com
DTSTAMP:20260424T203732Z
DTSTART;VALUE=DATE:20251117
DTEND;VALUE=DATE:20251117
SUMMARY:Angebotsfrist — Sanierung des Freibades in Herborn - Heizung
DESCRIPTION:Phase: Ausschreibung | Beschreibung: Angebote werden eingeholt | Link: https://ausschreibungsradar.com/ausschreibung/0e6f4b19-4a63-4e63-8e82-ceabe72e865f/
URL:https://ausschreibungsradar.com/ausschreibung/0e6f4b19-4a63-4e63-8e82-ceabe72e865f/
END:VEVENT
BEGIN:VEVENT
UID:6727fb719c5833aa@ausschreibungsradar.com
DTSTAMP:20260424T203732Z
DTSTART;VALUE=DATE:20251217
DTEND;VALUE=DATE:20251217
SUMMARY:Vergabeergebnis — Sanierung des Freibades in Herborn - Heizung
DESCRIPTION:Phase: Vergabeergebnis | Beschreibung: Auftrag wurde zugeschlagen | Link: https://ausschreibungsradar.com/ausschreibung/377c8448-94ff-4bc2-9bbb-66900b22390e/
URL:https://ausschreibungsradar.com/ausschreibung/377c8448-94ff-4bc2-9bbb-66900b22390e/
END:VEVENT
END:VCALENDAR
