BEGIN:VCALENDAR
VERSION:2.0
PRODID:-//AusschreibungsRadar//Timeline//DE
CALSCALE:GREGORIAN
METHOD:PUBLISH
X-WR-CALNAME:Projekt Neuordnung der Beschickung der biologischen Reinigungsstufe
X-WR-TIMEZONE:Europe/Berlin
BEGIN:VEVENT
UID:f90acf90e5f29ef1@ausschreibungsradar.com
DTSTAMP:20260424T151929Z
DTSTART;VALUE=DATE:20251129
DTEND;VALUE=DATE:20251129
SUMMARY:Ausschreibung — Neuordnung der Beschickung der biologischen Reinigungsstufe
DESCRIPTION:Phase: Ausschreibung | Beschreibung: Angebote werden eingeholt | Link: https://ausschreibungsradar.com/ausschreibung/0eb87668-a3ec-42ee-9393-abeec99f180d/
URL:https://ausschreibungsradar.com/ausschreibung/0eb87668-a3ec-42ee-9393-abeec99f180d/
END:VEVENT
BEGIN:VEVENT
UID:c69720d79dcbd12e@ausschreibungsradar.com
DTSTAMP:20260424T151929Z
DTSTART;VALUE=DATE:20251129
DTEND;VALUE=DATE:20251129
SUMMARY:Ausschreibung — Neuordnung der Beschickung der biologischen Reinigungsstufe
DESCRIPTION:Phase: Ausschreibung | Beschreibung: Offizielle Ausschreibung mit Bieterfrist. | Link: https://ausschreibungsradar.com/ausschreibung/77c7c179-4730-44b5-966b-53f4f23ab55a/
URL:https://ausschreibungsradar.com/ausschreibung/77c7c179-4730-44b5-966b-53f4f23ab55a/
END:VEVENT
BEGIN:VEVENT
UID:ba1aa3c387f9fba6@ausschreibungsradar.com
DTSTAMP:20260424T151929Z
DTSTART;VALUE=DATE:20251129
DTEND;VALUE=DATE:20251129
SUMMARY:Ausschreibung — Neuordnung der Beschickung der biologischen Reinigungsstufe
DESCRIPTION:Phase: Ausschreibung | Beschreibung: Offizielle Ausschreibung mit Bieterfrist. | Link: https://ausschreibungsradar.com/ausschreibung/cc3e9c36-2be3-48b3-940e-4ebd2b48ca06/
URL:https://ausschreibungsradar.com/ausschreibung/cc3e9c36-2be3-48b3-940e-4ebd2b48ca06/
END:VEVENT
BEGIN:VEVENT
UID:2e024cd521754c73@ausschreibungsradar.com
DTSTAMP:20260424T151929Z
DTSTART;VALUE=DATE:20251129
DTEND;VALUE=DATE:20251129
SUMMARY:Ausschreibung — Neuordnung der Beschickung der biologischen Reinigungsstufe
DESCRIPTION:Phase: Ausschreibung | Beschreibung: Offizielle Ausschreibung mit Bieterfrist. | Link: https://ausschreibungsradar.com/ausschreibung/d6b1428f-f033-4e8a-85a6-89a4a1db7c22/
URL:https://ausschreibungsradar.com/ausschreibung/d6b1428f-f033-4e8a-85a6-89a4a1db7c22/
END:VEVENT
BEGIN:VEVENT
UID:065989adf31439c6@ausschreibungsradar.com
DTSTAMP:20260424T151929Z
DTSTART;VALUE=DATE:20260418
DTEND;VALUE=DATE:20260418
SUMMARY:Vergabeergebnis — Neuordnung der Beschickung der biologischen Reinigungsstufe
DESCRIPTION:Phase: Vergabeergebnis | Beschreibung: Auftrag wurde zugeschlagen | Link: https://ausschreibungsradar.com/ausschreibung/7f920f6f-34ef-41ea-8aa7-2fb81d673025/ | Auftragnehmer: Klinger und Partner Ingen
URL:https://ausschreibungsradar.com/ausschreibung/7f920f6f-34ef-41ea-8aa7-2fb81d673025/
END:VEVENT
END:VCALENDAR
