BEGIN:VCALENDAR
VERSION:2.0
PRODID:-//AusschreibungsRadar//Timeline//DE
CALSCALE:GREGORIAN
METHOD:PUBLISH
X-WR-CALNAME:Projekt Spare Parts Supply and Minor Services Dornier DO-228
X-WR-TIMEZONE:Europe/Berlin
BEGIN:VEVENT
UID:97bbdbafce3edfcf@ausschreibungsradar.com
DTSTAMP:20260426T012643Z
DTSTART;VALUE=DATE:20260131
DTEND;VALUE=DATE:20260131
SUMMARY:Ausschreibung — Spare Parts Supply and Minor Services Dornier DO-228
DESCRIPTION:Phase: Ausschreibung | Beschreibung: Angebote werden eingeholt | Link: https://ausschreibungsradar.com/ausschreibung/670e17e2-d6a7-45b4-9c5c-d53c8983583f/
URL:https://ausschreibungsradar.com/ausschreibung/670e17e2-d6a7-45b4-9c5c-d53c8983583f/
END:VEVENT
BEGIN:VEVENT
UID:9807aab259c5671a@ausschreibungsradar.com
DTSTAMP:20260426T012643Z
DTSTART;VALUE=DATE:20260422
DTEND;VALUE=DATE:20260422
SUMMARY:Vergabeergebnis — Spare Parts Supply and Minor Services Dornier DO-228
DESCRIPTION:Phase: Vergabeergebnis | Beschreibung: Auftrag wurde zugeschlagen | Link: https://ausschreibungsradar.com/ausschreibung/0f383772-1fda-41ee-90a9-1bbe259d3fb5/
URL:https://ausschreibungsradar.com/ausschreibung/0f383772-1fda-41ee-90a9-1bbe259d3fb5/
END:VEVENT
END:VCALENDAR
