BEGIN:VCALENDAR
VERSION:2.0
PRODID:-//AusschreibungsRadar//Timeline//DE
CALSCALE:GREGORIAN
METHOD:PUBLISH
X-WR-CALNAME:Projekt 62-2025-261 - Gerüstbauarbeiten gem. DIN 18451
X-WR-TIMEZONE:Europe/Berlin
BEGIN:VEVENT
UID:f69dba5f231f66e0@ausschreibungsradar.com
DTSTAMP:20260426T013339Z
DTSTART;VALUE=DATE:20251016
DTEND;VALUE=DATE:20251016
SUMMARY:Angebotsfrist — 62-2025-261 - Gerüstbauarbeiten gem. DIN 18451
DESCRIPTION:Phase: Ausschreibung | Beschreibung: Angebote werden eingeholt | Link: https://ausschreibungsradar.com/ausschreibung/0fdb6f71-8f43-4e88-9408-dc40b5c7f891/
URL:https://ausschreibungsradar.com/ausschreibung/0fdb6f71-8f43-4e88-9408-dc40b5c7f891/
END:VEVENT
BEGIN:VEVENT
UID:8764b0a112ea4f10@ausschreibungsradar.com
DTSTAMP:20260426T013339Z
DTSTART;VALUE=DATE:20251121
DTEND;VALUE=DATE:20251121
SUMMARY:Vergabeergebnis — 62-2025-261 - Gerüstbauarbeiten gem. DIN 18451
DESCRIPTION:Phase: Vergabeergebnis | Beschreibung: Auftrag wurde zugeschlagen | Link: https://ausschreibungsradar.com/ausschreibung/9db2e0f7-fa65-4c4a-a1e6-479fad7c9c0b/ | Auftragnehmer: Kircheis & Partner Gerüst
URL:https://ausschreibungsradar.com/ausschreibung/9db2e0f7-fa65-4c4a-a1e6-479fad7c9c0b/
END:VEVENT
END:VCALENDAR
