BEGIN:VCALENDAR
VERSION:2.0
PRODID:-//AusschreibungsRadar//Timeline//DE
CALSCALE:GREGORIAN
METHOD:PUBLISH
X-WR-CALNAME:Projekt Gebäude- und Glasreinigung für die Stadt Beilngries
X-WR-TIMEZONE:Europe/Berlin
BEGIN:VEVENT
UID:32d61ae9e1966a41@ausschreibungsradar.com
DTSTAMP:20260424T155542Z
DTSTART;VALUE=DATE:20250610
DTEND;VALUE=DATE:20250610
SUMMARY:Angebotsfrist — Gebäude- und Glasreinigung für die Stadt Beilngries
DESCRIPTION:Phase: Ausschreibung | Beschreibung: Angebote werden eingeholt | Link: https://ausschreibungsradar.com/ausschreibung/1019eda5-03ec-47ec-8c00-e814fb4b20c3/
URL:https://ausschreibungsradar.com/ausschreibung/1019eda5-03ec-47ec-8c00-e814fb4b20c3/
END:VEVENT
END:VCALENDAR
