BEGIN:VCALENDAR
VERSION:2.0
PRODID:-//AusschreibungsRadar//Timeline//DE
CALSCALE:GREGORIAN
METHOD:PUBLISH
X-WR-CALNAME:Projekt AE - Teilneubau der Grundschule Groß Berkel - Trockenbauarbe
X-WR-TIMEZONE:Europe/Berlin
BEGIN:VEVENT
UID:0cb014483ba8576d@ausschreibungsradar.com
DTSTAMP:20260424T144608Z
DTSTART;VALUE=DATE:20250307
DTEND;VALUE=DATE:20250307
SUMMARY:Ausschreibung — AE - Teilneubau der Grundschule Groß Berkel - Trockenbauarbe
DESCRIPTION:Phase: Ausschreibung | Beschreibung: Offizielle Ausschreibung mit Bieterfrist. | Link: https://ausschreibungsradar.com/ausschreibung/e2cddd65-8ad3-4af4-b60e-a24f09649825/
URL:https://ausschreibungsradar.com/ausschreibung/e2cddd65-8ad3-4af4-b60e-a24f09649825/
END:VEVENT
BEGIN:VEVENT
UID:2c583b0f6640e148@ausschreibungsradar.com
DTSTAMP:20260424T144608Z
DTSTART;VALUE=DATE:20250314
DTEND;VALUE=DATE:20250314
SUMMARY:Zuschlag — AE - Teilneubau der Grundschule Groß Berkel - Trockenbauarbe
DESCRIPTION:Phase: Zuschlag | Beschreibung: Vergabeergebnis — Auftrag wurde erteilt oder Verfahren beendet. | Link: https://ausschreibungsradar.com/ausschreibung/c8085466-d415-49a8-8129-d89837da7742/
URL:https://ausschreibungsradar.com/ausschreibung/c8085466-d415-49a8-8129-d89837da7742/
END:VEVENT
BEGIN:VEVENT
UID:1c1bc8d9309b2c85@ausschreibungsradar.com
DTSTAMP:20260424T144608Z
DTSTART;VALUE=DATE:20250326
DTEND;VALUE=DATE:20250326
SUMMARY:Zuschlag — AE - Teilneubau der Grundschule Groß Berkel - Trockenbauarbe
DESCRIPTION:Phase: Zuschlag | Beschreibung: Vergabeergebnis — Auftrag wurde erteilt oder Verfahren beendet. | Link: https://ausschreibungsradar.com/ausschreibung/f2d018e7-7fef-4ece-af31-2cc97fb5404e/
URL:https://ausschreibungsradar.com/ausschreibung/f2d018e7-7fef-4ece-af31-2cc97fb5404e/
END:VEVENT
BEGIN:VEVENT
UID:efdc5c1e37bbfae4@ausschreibungsradar.com
DTSTAMP:20260424T144608Z
DTSTART;VALUE=DATE:20250429
DTEND;VALUE=DATE:20250429
SUMMARY:Angebotsfrist — AE - Teilneubau der Grundschule Groß Berkel - Trockenbauarbe
DESCRIPTION:Phase: Ausschreibung | Beschreibung: Angebote werden eingeholt | Link: https://ausschreibungsradar.com/ausschreibung/128eae28-3ad6-4bb5-8f70-716f7cd464ce/
URL:https://ausschreibungsradar.com/ausschreibung/128eae28-3ad6-4bb5-8f70-716f7cd464ce/
END:VEVENT
BEGIN:VEVENT
UID:53fec7361f178a02@ausschreibungsradar.com
DTSTAMP:20260424T144608Z
DTSTART;VALUE=DATE:20250416
DTEND;VALUE=DATE:20250416
SUMMARY:Zuschlag — AE - Teilneubau der Grundschule Groß Berkel - Trockenbauarbe
DESCRIPTION:Phase: Zuschlag | Beschreibung: Vergabeergebnis — Auftrag wurde erteilt oder Verfahren beendet. | Link: https://ausschreibungsradar.com/ausschreibung/ccd441c5-c2f9-4828-b886-818922387090/
URL:https://ausschreibungsradar.com/ausschreibung/ccd441c5-c2f9-4828-b886-818922387090/
END:VEVENT
BEGIN:VEVENT
UID:e6b543b16f4e95f8@ausschreibungsradar.com
DTSTAMP:20260424T144608Z
DTSTART;VALUE=DATE:20250701
DTEND;VALUE=DATE:20250701
SUMMARY:Vergabeergebnis — AE - Teilneubau der Grundschule Groß Berkel - Trockenbauarbe
DESCRIPTION:Phase: Vergabeergebnis | Beschreibung: Auftrag wurde zugeschlagen | Link: https://ausschreibungsradar.com/ausschreibung/b02f5d8a-f4c5-44d8-9a88-3c0e3d19f078/
URL:https://ausschreibungsradar.com/ausschreibung/b02f5d8a-f4c5-44d8-9a88-3c0e3d19f078/
END:VEVENT
END:VCALENDAR
