BEGIN:VCALENDAR
VERSION:2.0
PRODID:-//AusschreibungsRadar//Timeline//DE
CALSCALE:GREGORIAN
METHOD:PUBLISH
X-WR-CALNAME:Projekt Depotinstandsetzung 2026 EGV Frankfurt am Main - AP02 Vortri
X-WR-TIMEZONE:Europe/Berlin
BEGIN:VEVENT
UID:3132bf00a48b720d@ausschreibungsradar.com
DTSTAMP:20260424T001638Z
DTSTART;VALUE=DATE:20251229
DTEND;VALUE=DATE:20251229
SUMMARY:Ausschreibung — Depotinstandsetzung 2026 EGV Frankfurt am Main - AP02 Vortri
DESCRIPTION:Phase: Ausschreibung | Beschreibung: Offizielle Ausschreibung mit Bieterfrist. | Link: https://ausschreibungsradar.com/ausschreibung/dc61e049-07bf-4ef5-8779-b7d91ce9308c/
URL:https://ausschreibungsradar.com/ausschreibung/dc61e049-07bf-4ef5-8779-b7d91ce9308c/
END:VEVENT
BEGIN:VEVENT
UID:774fa1820f84aeaf@ausschreibungsradar.com
DTSTAMP:20260424T001638Z
DTSTART;VALUE=DATE:20251229
DTEND;VALUE=DATE:20251229
SUMMARY:Ausschreibung — Depotinstandsetzung 2026 EGV Frankfurt am Main - AP02 Vortri
DESCRIPTION:Phase: Ausschreibung | Beschreibung: Offizielle Ausschreibung mit Bieterfrist. | Link: https://ausschreibungsradar.com/ausschreibung/61847398-2064-4568-8267-8f708d93f906/
URL:https://ausschreibungsradar.com/ausschreibung/61847398-2064-4568-8267-8f708d93f906/
END:VEVENT
BEGIN:VEVENT
UID:3f1113fe24b8550c@ausschreibungsradar.com
DTSTAMP:20260424T001638Z
DTSTART;VALUE=DATE:20251230
DTEND;VALUE=DATE:20251230
SUMMARY:Ausschreibung — Depotinstandsetzung 2026 EGV Frankfurt am Main - AP02 Vortri
DESCRIPTION:Phase: Ausschreibung | Beschreibung: Angebote werden eingeholt | Link: https://ausschreibungsradar.com/ausschreibung/12ca77ad-c152-4698-8aee-7b5f3626f985/
URL:https://ausschreibungsradar.com/ausschreibung/12ca77ad-c152-4698-8aee-7b5f3626f985/
END:VEVENT
BEGIN:VEVENT
UID:8968cbb5fa619e7a@ausschreibungsradar.com
DTSTAMP:20260424T001638Z
DTSTART;VALUE=DATE:20251230
DTEND;VALUE=DATE:20251230
SUMMARY:Ausschreibung — Depotinstandsetzung 2026 EGV Frankfurt am Main - AP02 Vortri
DESCRIPTION:Phase: Ausschreibung | Beschreibung: Offizielle Ausschreibung mit Bieterfrist. | Link: https://ausschreibungsradar.com/ausschreibung/12f63a0c-ff9a-4c53-a3f0-ee3502f86847/
URL:https://ausschreibungsradar.com/ausschreibung/12f63a0c-ff9a-4c53-a3f0-ee3502f86847/
END:VEVENT
BEGIN:VEVENT
UID:5f38bd631c9be783@ausschreibungsradar.com
DTSTAMP:20260424T001638Z
DTSTART;VALUE=DATE:20251230
DTEND;VALUE=DATE:20251230
SUMMARY:Ausschreibung — Depotinstandsetzung 2026 EGV Frankfurt am Main - AP02 Vortri
DESCRIPTION:Phase: Ausschreibung | Beschreibung: Offizielle Ausschreibung mit Bieterfrist. | Link: https://ausschreibungsradar.com/ausschreibung/777d69d4-9142-46ad-984b-f50bc0226ebc/
URL:https://ausschreibungsradar.com/ausschreibung/777d69d4-9142-46ad-984b-f50bc0226ebc/
END:VEVENT
BEGIN:VEVENT
UID:0876064cb6fd8e1c@ausschreibungsradar.com
DTSTAMP:20260424T001638Z
DTSTART;VALUE=DATE:20251230
DTEND;VALUE=DATE:20251230
SUMMARY:Ausschreibung — Depotinstandsetzung 2026 EGV Frankfurt am Main - AP02 Vortri
DESCRIPTION:Phase: Ausschreibung | Beschreibung: Offizielle Ausschreibung mit Bieterfrist. | Link: https://ausschreibungsradar.com/ausschreibung/ef341a31-48fd-4e71-8e0e-54ab41280270/
URL:https://ausschreibungsradar.com/ausschreibung/ef341a31-48fd-4e71-8e0e-54ab41280270/
END:VEVENT
END:VCALENDAR
