BEGIN:VCALENDAR
VERSION:2.0
PRODID:-//AusschreibungsRadar//Timeline//DE
CALSCALE:GREGORIAN
METHOD:PUBLISH
X-WR-CALNAME:Projekt Umbau eines Wohnblocks zu einer Jugendherberge
X-WR-TIMEZONE:Europe/Berlin
BEGIN:VEVENT
UID:7c80775b5ee45e0d@ausschreibungsradar.com
DTSTAMP:20260425T163921Z
DTSTART;VALUE=DATE:20240721
DTEND;VALUE=DATE:20240721
SUMMARY:Vergabeergebnis — Umbau eines Wohnblocks zu einer Jugendherberge
DESCRIPTION:Phase: Vergabeergebnis | Beschreibung: Auftrag wurde zugeschlagen | Link: https://ausschreibungsradar.com/ausschreibung/13829d9c-522e-4fe3-a328-89bb4339aeb3/
URL:https://ausschreibungsradar.com/ausschreibung/13829d9c-522e-4fe3-a328-89bb4339aeb3/
END:VEVENT
BEGIN:VEVENT
UID:b7e63fa364617aa2@ausschreibungsradar.com
DTSTAMP:20260425T163921Z
DTSTART;VALUE=DATE:20240721
DTEND;VALUE=DATE:20240721
SUMMARY:Zuschlag — Umbau eines Wohnblocks zu einer Jugendherberge
DESCRIPTION:Phase: Zuschlag | Beschreibung: Vergabeergebnis — Auftrag wurde erteilt oder Verfahren beendet. | Link: https://ausschreibungsradar.com/ausschreibung/6317debd-9774-4879-bece-f0810b1c1bc6/
URL:https://ausschreibungsradar.com/ausschreibung/6317debd-9774-4879-bece-f0810b1c1bc6/
END:VEVENT
BEGIN:VEVENT
UID:f01229b6b8465f33@ausschreibungsradar.com
DTSTAMP:20260425T163921Z
DTSTART;VALUE=DATE:20240721
DTEND;VALUE=DATE:20240721
SUMMARY:Zuschlag — Umbau eines Wohnblocks zu einer Jugendherberge
DESCRIPTION:Phase: Zuschlag | Beschreibung: Vergabeergebnis — Auftrag wurde erteilt oder Verfahren beendet. | Link: https://ausschreibungsradar.com/ausschreibung/a4ed3f62-3507-4663-ae87-15bffbe50c09/
URL:https://ausschreibungsradar.com/ausschreibung/a4ed3f62-3507-4663-ae87-15bffbe50c09/
END:VEVENT
BEGIN:VEVENT
UID:f6575f5c27f1d2cb@ausschreibungsradar.com
DTSTAMP:20260425T163921Z
DTSTART;VALUE=DATE:20240721
DTEND;VALUE=DATE:20240721
SUMMARY:Zuschlag — Umbau eines Wohnblocks zu einer Jugendherberge
DESCRIPTION:Phase: Zuschlag | Beschreibung: Vergabeergebnis — Auftrag wurde erteilt oder Verfahren beendet. | Link: https://ausschreibungsradar.com/ausschreibung/cdf13072-2bae-422d-ba69-a1b57ac0d132/
URL:https://ausschreibungsradar.com/ausschreibung/cdf13072-2bae-422d-ba69-a1b57ac0d132/
END:VEVENT
BEGIN:VEVENT
UID:c3d78a22f0f4366f@ausschreibungsradar.com
DTSTAMP:20260425T163921Z
DTSTART;VALUE=DATE:20240721
DTEND;VALUE=DATE:20240721
SUMMARY:Zuschlag — Umbau eines Wohnblocks zu einer Jugendherberge
DESCRIPTION:Phase: Zuschlag | Beschreibung: Vergabeergebnis — Auftrag wurde erteilt oder Verfahren beendet. | Link: https://ausschreibungsradar.com/ausschreibung/b3ac868d-f9b6-413c-83bc-fd9528ab1603/
URL:https://ausschreibungsradar.com/ausschreibung/b3ac868d-f9b6-413c-83bc-fd9528ab1603/
END:VEVENT
BEGIN:VEVENT
UID:267cc0f4b1b4c19b@ausschreibungsradar.com
DTSTAMP:20260425T163921Z
DTSTART;VALUE=DATE:20240721
DTEND;VALUE=DATE:20240721
SUMMARY:Zuschlag — Umbau eines Wohnblocks zu einer Jugendherberge
DESCRIPTION:Phase: Zuschlag | Beschreibung: Vergabeergebnis — Auftrag wurde erteilt oder Verfahren beendet. | Link: https://ausschreibungsradar.com/ausschreibung/cfe1aa56-f742-412b-8e56-d36eb1818c75/
URL:https://ausschreibungsradar.com/ausschreibung/cfe1aa56-f742-412b-8e56-d36eb1818c75/
END:VEVENT
END:VCALENDAR
