BEGIN:VCALENDAR
VERSION:2.0
PRODID:-//AusschreibungsRadar//Timeline//DE
CALSCALE:GREGORIAN
METHOD:PUBLISH
X-WR-CALNAME:Projekt MPI für Intelligente Systeme, Neubau Cyber Valley: RLT.1
X-WR-TIMEZONE:Europe/Berlin
BEGIN:VEVENT
UID:43a81d6b4d6c37a0@ausschreibungsradar.com
DTSTAMP:20260425T193925Z
DTSTART;VALUE=DATE:20251119
DTEND;VALUE=DATE:20251119
SUMMARY:Angebotsfrist — MPI für Intelligente Systeme\, Neubau Cyber Valley: RLT.1
DESCRIPTION:Phase: Ausschreibung | Beschreibung: Angebote werden eingeholt | Link: https://ausschreibungsradar.com/ausschreibung/59ad7107-2b1a-492e-ad3a-98aa8692cf4e/
URL:https://ausschreibungsradar.com/ausschreibung/59ad7107-2b1a-492e-ad3a-98aa8692cf4e/
END:VEVENT
BEGIN:VEVENT
UID:0e598bee6b509d13@ausschreibungsradar.com
DTSTAMP:20260425T193925Z
DTSTART;VALUE=DATE:20260209
DTEND;VALUE=DATE:20260209
SUMMARY:Zuschlag — MPI für Intelligente Systeme\, Neubau Cyber Valley: RLT.1
DESCRIPTION:Phase: Zuschlag | Beschreibung: Vergabeergebnis — Auftrag wurde erteilt oder Verfahren beendet. | Link: https://ausschreibungsradar.com/ausschreibung/6902241f-1765-43cb-8559-7ad248937f33/
URL:https://ausschreibungsradar.com/ausschreibung/6902241f-1765-43cb-8559-7ad248937f33/
END:VEVENT
BEGIN:VEVENT
UID:be0bb3b9b0a15492@ausschreibungsradar.com
DTSTAMP:20260425T193925Z
DTSTART;VALUE=DATE:20260309
DTEND;VALUE=DATE:20260309
SUMMARY:Vergabeergebnis — MPI für Intelligente Systeme\, Neubau Cyber Valley: RLT.1
DESCRIPTION:Phase: Vergabeergebnis | Beschreibung: Auftrag wurde zugeschlagen | Link: https://ausschreibungsradar.com/ausschreibung/15d4f02f-9eef-4bd6-9d0c-6e2e50224498/
URL:https://ausschreibungsradar.com/ausschreibung/15d4f02f-9eef-4bd6-9d0c-6e2e50224498/
END:VEVENT
BEGIN:VEVENT
UID:82145cf38c40eba2@ausschreibungsradar.com
DTSTAMP:20260425T193925Z
DTSTART;VALUE=DATE:20260313
DTEND;VALUE=DATE:20260313
SUMMARY:Ausschreibung — MPI für Intelligente Systeme\, Neubau Cyber Valley: RLT.1
DESCRIPTION:Phase: Ausschreibung | Beschreibung: Offizielle Ausschreibung mit Bieterfrist. | Link: https://ausschreibungsradar.com/ausschreibung/6ed54e89-1be6-4746-8629-77d3eb98dbfd/
URL:https://ausschreibungsradar.com/ausschreibung/6ed54e89-1be6-4746-8629-77d3eb98dbfd/
END:VEVENT
END:VCALENDAR
