BEGIN:VCALENDAR
VERSION:2.0
PRODID:-//AusschreibungsRadar//Timeline//DE
CALSCALE:GREGORIAN
METHOD:PUBLISH
X-WR-CALNAME:Projekt Sanierung Dora-Rau-Bad Wadern - Betonsanierung
X-WR-TIMEZONE:Europe/Berlin
BEGIN:VEVENT
UID:b863ab2c0e721b6c@ausschreibungsradar.com
DTSTAMP:20260426T042910Z
DTSTART;VALUE=DATE:20240219
DTEND;VALUE=DATE:20240219
SUMMARY:Angebotsfrist — Sanierung Dora-Rau-Bad Wadern - Betonsanierung
DESCRIPTION:Phase: Ausschreibung | Beschreibung: Angebote werden eingeholt | Link: https://ausschreibungsradar.com/ausschreibung/16cde12e-8d46-46dc-9049-df5171ea65a9/
URL:https://ausschreibungsradar.com/ausschreibung/16cde12e-8d46-46dc-9049-df5171ea65a9/
END:VEVENT
BEGIN:VEVENT
UID:18bf348d9d8ad9d5@ausschreibungsradar.com
DTSTAMP:20260426T042910Z
DTSTART;VALUE=DATE:20240121
DTEND;VALUE=DATE:20240121
SUMMARY:Ausschreibung — Sanierung Dora-Rau-Bad Wadern - Betonsanierung
DESCRIPTION:Phase: Ausschreibung | Beschreibung: Offizielle Ausschreibung mit Bieterfrist. | Link: https://ausschreibungsradar.com/ausschreibung/e70b7ca2-b512-4789-b9a6-18270223053d/
URL:https://ausschreibungsradar.com/ausschreibung/e70b7ca2-b512-4789-b9a6-18270223053d/
END:VEVENT
BEGIN:VEVENT
UID:88502612034a84c2@ausschreibungsradar.com
DTSTAMP:20260426T042910Z
DTSTART;VALUE=DATE:20240619
DTEND;VALUE=DATE:20240619
SUMMARY:Vergabeergebnis — Sanierung Dora-Rau-Bad Wadern - Betonsanierung
DESCRIPTION:Phase: Vergabeergebnis | Beschreibung: Auftrag wurde zugeschlagen | Link: https://ausschreibungsradar.com/ausschreibung/d5184430-90cf-4eaa-ae0a-45469b52f1a6/ | Auftragnehmer: Intec GmbH
URL:https://ausschreibungsradar.com/ausschreibung/d5184430-90cf-4eaa-ae0a-45469b52f1a6/
END:VEVENT
END:VCALENDAR
