BEGIN:VCALENDAR
VERSION:2.0
PRODID:-//AusschreibungsRadar//Timeline//DE
CALSCALE:GREGORIAN
METHOD:PUBLISH
X-WR-CALNAME:Projekt Unterstützungsleistung bei der Weiterentwicklung der daewy P
X-WR-TIMEZONE:Europe/Berlin
BEGIN:VEVENT
UID:555dbbfc2d77daed@ausschreibungsradar.com
DTSTAMP:20260425T213510Z
DTSTART;VALUE=DATE:20250709
DTEND;VALUE=DATE:20250709
SUMMARY:Angebotsfrist — Unterstützungsleistung bei der Weiterentwicklung der daewy P
DESCRIPTION:Phase: Ausschreibung | Beschreibung: Angebote werden eingeholt | Link: https://ausschreibungsradar.com/ausschreibung/6adcab8f-208b-4ea3-8b59-3e0e0796d41d/
URL:https://ausschreibungsradar.com/ausschreibung/6adcab8f-208b-4ea3-8b59-3e0e0796d41d/
END:VEVENT
BEGIN:VEVENT
UID:365d1447ee99326e@ausschreibungsradar.com
DTSTAMP:20260425T213510Z
DTSTART;VALUE=DATE:20250905
DTEND;VALUE=DATE:20250905
SUMMARY:Vergabeergebnis — Unterstützungsleistung bei der Weiterentwicklung der daewy P
DESCRIPTION:Phase: Vergabeergebnis | Beschreibung: Auftrag wurde zugeschlagen | Link: https://ausschreibungsradar.com/ausschreibung/171bb903-3a3c-4453-a521-4cf8a22db29d/
URL:https://ausschreibungsradar.com/ausschreibung/171bb903-3a3c-4453-a521-4cf8a22db29d/
END:VEVENT
END:VCALENDAR
