BEGIN:VCALENDAR
VERSION:2.0
PRODID:-//AusschreibungsRadar//Timeline//DE
CALSCALE:GREGORIAN
METHOD:PUBLISH
X-WR-CALNAME:Projekt Kindergartenneubau Bawinkel - Brandschutz/Feuerlöscher
X-WR-TIMEZONE:Europe/Berlin
BEGIN:VEVENT
UID:a66234f8bf9aa069@ausschreibungsradar.com
DTSTAMP:20260424T032208Z
DTSTART;VALUE=DATE:20220608
DTEND;VALUE=DATE:20220608
SUMMARY:Ausschreibung — Kindergartenneubau Bawinkel - Brandschutz/Feuerlöscher
DESCRIPTION:Phase: Ausschreibung | Beschreibung: Offizielle Ausschreibung mit Bieterfrist. | Link: https://ausschreibungsradar.com/ausschreibung/18025266/
URL:https://ausschreibungsradar.com/ausschreibung/18025266/
END:VEVENT
BEGIN:VEVENT
UID:bb54e2c8770c493c@ausschreibungsradar.com
DTSTAMP:20260424T032208Z
DTSTART;VALUE=DATE:20220608
DTEND;VALUE=DATE:20220608
SUMMARY:Ausschreibung — Kindergartenneubau Bawinkel - Brandschutz/Feuerlöscher
DESCRIPTION:Phase: Ausschreibung | Beschreibung: Offizielle Ausschreibung mit Bieterfrist. | Link: https://ausschreibungsradar.com/ausschreibung/18025250/
URL:https://ausschreibungsradar.com/ausschreibung/18025250/
END:VEVENT
BEGIN:VEVENT
UID:4b0704f1e79202fd@ausschreibungsradar.com
DTSTAMP:20260424T032208Z
DTSTART;VALUE=DATE:20220608
DTEND;VALUE=DATE:20220608
SUMMARY:Ausschreibung — Kindergartenneubau Bawinkel - Brandschutz/Feuerlöscher
DESCRIPTION:Phase: Ausschreibung | Beschreibung: Offizielle Ausschreibung mit Bieterfrist. | Link: https://ausschreibungsradar.com/ausschreibung/18025254/
URL:https://ausschreibungsradar.com/ausschreibung/18025254/
END:VEVENT
BEGIN:VEVENT
UID:62afd73f1f414292@ausschreibungsradar.com
DTSTAMP:20260424T032208Z
DTSTART;VALUE=DATE:20220608
DTEND;VALUE=DATE:20220608
SUMMARY:Ausschreibung — Kindergartenneubau Bawinkel - Brandschutz/Feuerlöscher
DESCRIPTION:Phase: Ausschreibung | Beschreibung: Offizielle Ausschreibung mit Bieterfrist. | Link: https://ausschreibungsradar.com/ausschreibung/18025262/
URL:https://ausschreibungsradar.com/ausschreibung/18025262/
END:VEVENT
END:VCALENDAR
