BEGIN:VCALENDAR
VERSION:2.0
PRODID:-//AusschreibungsRadar//Timeline//DE
CALSCALE:GREGORIAN
METHOD:PUBLISH
X-WR-CALNAME:Projekt Erweiterung Kindergarten Bothmer
X-WR-TIMEZONE:Europe/Berlin
BEGIN:VEVENT
UID:b245668cff8e97ce@ausschreibungsradar.com
DTSTAMP:20260425T122538Z
DTSTART;VALUE=DATE:20220621
DTEND;VALUE=DATE:20220621
SUMMARY:Ausschreibung — Erweiterung Kindergarten Bothmer
DESCRIPTION:Phase: Ausschreibung | Beschreibung: Offizielle Ausschreibung mit Bieterfrist. | Link: https://ausschreibungsradar.com/ausschreibung/18089566/
URL:https://ausschreibungsradar.com/ausschreibung/18089566/
END:VEVENT
BEGIN:VEVENT
UID:f322917a849a7b71@ausschreibungsradar.com
DTSTAMP:20260425T122538Z
DTSTART;VALUE=DATE:20220621
DTEND;VALUE=DATE:20220621
SUMMARY:Ausschreibung — Erweiterung Kindergarten Bothmer
DESCRIPTION:Phase: Ausschreibung | Beschreibung: Offizielle Ausschreibung mit Bieterfrist. | Link: https://ausschreibungsradar.com/ausschreibung/18089552/
URL:https://ausschreibungsradar.com/ausschreibung/18089552/
END:VEVENT
END:VCALENDAR
