BEGIN:VCALENDAR
VERSION:2.0
PRODID:-//AusschreibungsRadar//Timeline//DE
CALSCALE:GREGORIAN
METHOD:PUBLISH
X-WR-CALNAME:Projekt Digitalisierung des Aktenarchivs 66.03 im Zeitraum 2026 bis 
X-WR-TIMEZONE:Europe/Berlin
BEGIN:VEVENT
UID:fd1e6f7ce2ef0324@ausschreibungsradar.com
DTSTAMP:20260426T042939Z
DTSTART;VALUE=DATE:20260402
DTEND;VALUE=DATE:20260402
SUMMARY:Angebotsfrist — Digitalisierung des Aktenarchivs 66.03 im Zeitraum 2026 bis 
DESCRIPTION:Phase: Ausschreibung | Beschreibung: Angebote werden eingeholt | Link: https://ausschreibungsradar.com/ausschreibung/180b5a21-e8c1-4ca1-9185-bcb04b73c367/ | Geschätzter Wert: 600000 €
URL:https://ausschreibungsradar.com/ausschreibung/180b5a21-e8c1-4ca1-9185-bcb04b73c367/
END:VEVENT
END:VCALENDAR
