BEGIN:VCALENDAR
VERSION:2.0
PRODID:-//AusschreibungsRadar//Timeline//DE
CALSCALE:GREGORIAN
METHOD:PUBLISH
X-WR-CALNAME:Projekt Nutzbarmachung einer Werkhalle für die Stadtwerke Taunusstei
X-WR-TIMEZONE:Europe/Berlin
BEGIN:VEVENT
UID:fe9c5b28257bca4c@ausschreibungsradar.com
DTSTAMP:20260424T142301Z
DTSTART;VALUE=DATE:20220714
DTEND;VALUE=DATE:20220714
SUMMARY:Ausschreibung — Nutzbarmachung einer Werkhalle für die Stadtwerke Taunusstei
DESCRIPTION:Phase: Ausschreibung | Beschreibung: Offizielle Ausschreibung mit Bieterfrist. | Link: https://ausschreibungsradar.com/ausschreibung/18240932/
URL:https://ausschreibungsradar.com/ausschreibung/18240932/
END:VEVENT
BEGIN:VEVENT
UID:98dd6c42538a0750@ausschreibungsradar.com
DTSTAMP:20260424T142301Z
DTSTART;VALUE=DATE:20220714
DTEND;VALUE=DATE:20220714
SUMMARY:Ausschreibung — Nutzbarmachung einer Werkhalle für die Stadtwerke Taunusstei
DESCRIPTION:Phase: Ausschreibung | Beschreibung: Offizielle Ausschreibung mit Bieterfrist. | Link: https://ausschreibungsradar.com/ausschreibung/18240936/
URL:https://ausschreibungsradar.com/ausschreibung/18240936/
END:VEVENT
END:VCALENDAR
