BEGIN:VCALENDAR
VERSION:2.0
PRODID:-//AusschreibungsRadar//Timeline//DE
CALSCALE:GREGORIAN
METHOD:PUBLISH
X-WR-CALNAME:Projekt Neubau Werkstattgebäude für behinderte Menschen, Lutherstadt
X-WR-TIMEZONE:Europe/Berlin
BEGIN:VEVENT
UID:2869c88897ba2374@ausschreibungsradar.com
DTSTAMP:20260425T185922Z
DTSTART;VALUE=DATE:20220711
DTEND;VALUE=DATE:20220711
SUMMARY:Ausschreibung — Neubau Werkstattgebäude für behinderte Menschen\, Lutherstadt
DESCRIPTION:Phase: Ausschreibung | Beschreibung: Offizielle Ausschreibung mit Bieterfrist. | Link: https://ausschreibungsradar.com/ausschreibung/18210104/
URL:https://ausschreibungsradar.com/ausschreibung/18210104/
END:VEVENT
BEGIN:VEVENT
UID:95ac0285d4f01a2f@ausschreibungsradar.com
DTSTAMP:20260425T185922Z
DTSTART;VALUE=DATE:20220729
DTEND;VALUE=DATE:20220729
SUMMARY:Ausschreibung — Neubau Werkstattgebäude für behinderte Menschen\, Lutherstadt
DESCRIPTION:Phase: Ausschreibung | Beschreibung: Offizielle Ausschreibung mit Bieterfrist. | Link: https://ausschreibungsradar.com/ausschreibung/18321132/
URL:https://ausschreibungsradar.com/ausschreibung/18321132/
END:VEVENT
END:VCALENDAR
